BEGIN:VCALENDAR
VERSION:2.0
PRODID:-//Parish Pop-Ups - ECPv6.13.2.1//NONSGML v1.0//EN
CALSCALE:GREGORIAN
METHOD:PUBLISH
X-ORIGINAL-URL:https://parishpopups.com
X-WR-CALDESC:Events for Parish Pop-Ups
REFRESH-INTERVAL;VALUE=DURATION:PT1H
X-Robots-Tag:noindex
X-PUBLISHED-TTL:PT1H
BEGIN:VTIMEZONE
TZID:America/Chicago
BEGIN:DAYLIGHT
TZOFFSETFROM:-0600
TZOFFSETTO:-0500
TZNAME:CDT
DTSTART:20280312T080000
END:DAYLIGHT
BEGIN:STANDARD
TZOFFSETFROM:-0500
TZOFFSETTO:-0600
TZNAME:CST
DTSTART:20281105T070000
END:STANDARD
BEGIN:DAYLIGHT
TZOFFSETFROM:-0600
TZOFFSETTO:-0500
TZNAME:CDT
DTSTART:20290311T080000
END:DAYLIGHT
BEGIN:STANDARD
TZOFFSETFROM:-0500
TZOFFSETTO:-0600
TZNAME:CST
DTSTART:20291104T070000
END:STANDARD
END:VTIMEZONE
BEGIN:VEVENT
DTSTART;TZID=America/Chicago:20280722T080000
DTEND;TZID=America/Chicago:20280722T120000
DTSTAMP:20260421T070612
CREATED:20250522T152326Z
LAST-MODIFIED:20250522T152326Z
UID:10000209-1847865600-1847880000@parishpopups.com
SUMMARY:Lafayette Farmers & Artisan Market
DESCRIPTION:The Lafayette Farmers and Artisans Market provides access to affordable food and consumer education by serving as a premier venue for seasonal\, farm-based products and artisanal creations offered by local producers. \n  \nSupport local farmers and makers every Saturday at Moncus Park \nVendor Applications are Currently Closed
URL:https://parishpopups.com/event/lafayette-farmers-artisan-market/2028-07-22/
LOCATION:Moncus Park\, 2913 Johnston St.\, Lafayette\, LA\, 70510\, United States
ATTACH;FMTTYPE=image/png:https://parishpopups.com/wp-content/uploads/2025/05/Screenshot-2025-05-22-at-10.22.44 AM.png
END:VEVENT
BEGIN:VEVENT
DTSTART;TZID=America/Chicago:20280729T080000
DTEND;TZID=America/Chicago:20280729T120000
DTSTAMP:20260421T070612
CREATED:20250522T152326Z
LAST-MODIFIED:20250522T152326Z
UID:10000210-1848470400-1848484800@parishpopups.com
SUMMARY:Lafayette Farmers & Artisan Market
DESCRIPTION:The Lafayette Farmers and Artisans Market provides access to affordable food and consumer education by serving as a premier venue for seasonal\, farm-based products and artisanal creations offered by local producers. \n  \nSupport local farmers and makers every Saturday at Moncus Park \nVendor Applications are Currently Closed
URL:https://parishpopups.com/event/lafayette-farmers-artisan-market/2028-07-29/
LOCATION:Moncus Park\, 2913 Johnston St.\, Lafayette\, LA\, 70510\, United States
ATTACH;FMTTYPE=image/png:https://parishpopups.com/wp-content/uploads/2025/05/Screenshot-2025-05-22-at-10.22.44 AM.png
END:VEVENT
BEGIN:VEVENT
DTSTART;TZID=America/Chicago:20280805T080000
DTEND;TZID=America/Chicago:20280805T120000
DTSTAMP:20260421T070612
CREATED:20250522T152326Z
LAST-MODIFIED:20250522T152326Z
UID:10000211-1849075200-1849089600@parishpopups.com
SUMMARY:Lafayette Farmers & Artisan Market
DESCRIPTION:The Lafayette Farmers and Artisans Market provides access to affordable food and consumer education by serving as a premier venue for seasonal\, farm-based products and artisanal creations offered by local producers. \n  \nSupport local farmers and makers every Saturday at Moncus Park \nVendor Applications are Currently Closed
URL:https://parishpopups.com/event/lafayette-farmers-artisan-market/2028-08-05/
LOCATION:Moncus Park\, 2913 Johnston St.\, Lafayette\, LA\, 70510\, United States
ATTACH;FMTTYPE=image/png:https://parishpopups.com/wp-content/uploads/2025/05/Screenshot-2025-05-22-at-10.22.44 AM.png
END:VEVENT
BEGIN:VEVENT
DTSTART;TZID=America/Chicago:20280805T090000
DTEND;TZID=America/Chicago:20280805T130000
DTSTAMP:20260421T070612
CREATED:20250522T152923Z
LAST-MODIFIED:20250703T201859Z
UID:10000534-1849078800-1849093200@parishpopups.com
SUMMARY:Delcambre Seafood & Farmers Market
DESCRIPTION:Located on the water\, the Delcambre Seafood and Farmers Market offers \n\nfresh shrimp off the boats in season\n60+ vendors under a large covered pavilion\nlive music\nkids activities\nbrunch food and drinks\n\nThere are vendors of all kinds selling fresh produce\, homemade canned goods\, arts and crafts. \nVisit their website for vendor information – https://delcambremarket.org/
URL:https://parishpopups.com/event/delcambre-seafood-farmers-market/2028-08-05/
LOCATION:Delcambre Seafood Market\, 605 S Railroad Street (Hwy 330)\, Delcambre\, LA\, 70528\, United States
ATTACH;FMTTYPE=image/png:https://parishpopups.com/wp-content/uploads/2025/05/Screenshot-2025-05-22-at-10.28.13 AM.png
END:VEVENT
BEGIN:VEVENT
DTSTART;TZID=America/Chicago:20280812T080000
DTEND;TZID=America/Chicago:20280812T120000
DTSTAMP:20260421T070612
CREATED:20250522T152326Z
LAST-MODIFIED:20250522T152326Z
UID:10000212-1849680000-1849694400@parishpopups.com
SUMMARY:Lafayette Farmers & Artisan Market
DESCRIPTION:The Lafayette Farmers and Artisans Market provides access to affordable food and consumer education by serving as a premier venue for seasonal\, farm-based products and artisanal creations offered by local producers. \n  \nSupport local farmers and makers every Saturday at Moncus Park \nVendor Applications are Currently Closed
URL:https://parishpopups.com/event/lafayette-farmers-artisan-market/2028-08-12/
LOCATION:Moncus Park\, 2913 Johnston St.\, Lafayette\, LA\, 70510\, United States
ATTACH;FMTTYPE=image/png:https://parishpopups.com/wp-content/uploads/2025/05/Screenshot-2025-05-22-at-10.22.44 AM.png
END:VEVENT
BEGIN:VEVENT
DTSTART;TZID=America/Chicago:20280819T080000
DTEND;TZID=America/Chicago:20280819T120000
DTSTAMP:20260421T070612
CREATED:20250522T152326Z
LAST-MODIFIED:20250522T152326Z
UID:10000213-1850284800-1850299200@parishpopups.com
SUMMARY:Lafayette Farmers & Artisan Market
DESCRIPTION:The Lafayette Farmers and Artisans Market provides access to affordable food and consumer education by serving as a premier venue for seasonal\, farm-based products and artisanal creations offered by local producers. \n  \nSupport local farmers and makers every Saturday at Moncus Park \nVendor Applications are Currently Closed
URL:https://parishpopups.com/event/lafayette-farmers-artisan-market/2028-08-19/
LOCATION:Moncus Park\, 2913 Johnston St.\, Lafayette\, LA\, 70510\, United States
ATTACH;FMTTYPE=image/png:https://parishpopups.com/wp-content/uploads/2025/05/Screenshot-2025-05-22-at-10.22.44 AM.png
END:VEVENT
BEGIN:VEVENT
DTSTART;TZID=America/Chicago:20280826T080000
DTEND;TZID=America/Chicago:20280826T120000
DTSTAMP:20260421T070612
CREATED:20250522T152326Z
LAST-MODIFIED:20250522T152326Z
UID:10000214-1850889600-1850904000@parishpopups.com
SUMMARY:Lafayette Farmers & Artisan Market
DESCRIPTION:The Lafayette Farmers and Artisans Market provides access to affordable food and consumer education by serving as a premier venue for seasonal\, farm-based products and artisanal creations offered by local producers. \n  \nSupport local farmers and makers every Saturday at Moncus Park \nVendor Applications are Currently Closed
URL:https://parishpopups.com/event/lafayette-farmers-artisan-market/2028-08-26/
LOCATION:Moncus Park\, 2913 Johnston St.\, Lafayette\, LA\, 70510\, United States
ATTACH;FMTTYPE=image/png:https://parishpopups.com/wp-content/uploads/2025/05/Screenshot-2025-05-22-at-10.22.44 AM.png
END:VEVENT
BEGIN:VEVENT
DTSTART;TZID=America/Chicago:20280902T080000
DTEND;TZID=America/Chicago:20280902T120000
DTSTAMP:20260421T070612
CREATED:20250522T152326Z
LAST-MODIFIED:20250522T152326Z
UID:10000215-1851494400-1851508800@parishpopups.com
SUMMARY:Lafayette Farmers & Artisan Market
DESCRIPTION:The Lafayette Farmers and Artisans Market provides access to affordable food and consumer education by serving as a premier venue for seasonal\, farm-based products and artisanal creations offered by local producers. \n  \nSupport local farmers and makers every Saturday at Moncus Park \nVendor Applications are Currently Closed
URL:https://parishpopups.com/event/lafayette-farmers-artisan-market/2028-09-02/
LOCATION:Moncus Park\, 2913 Johnston St.\, Lafayette\, LA\, 70510\, United States
ATTACH;FMTTYPE=image/png:https://parishpopups.com/wp-content/uploads/2025/05/Screenshot-2025-05-22-at-10.22.44 AM.png
END:VEVENT
BEGIN:VEVENT
DTSTART;TZID=America/Chicago:20280902T090000
DTEND;TZID=America/Chicago:20280902T130000
DTSTAMP:20260421T070612
CREATED:20250522T152923Z
LAST-MODIFIED:20250703T201859Z
UID:10000535-1851498000-1851512400@parishpopups.com
SUMMARY:Delcambre Seafood & Farmers Market
DESCRIPTION:Located on the water\, the Delcambre Seafood and Farmers Market offers \n\nfresh shrimp off the boats in season\n60+ vendors under a large covered pavilion\nlive music\nkids activities\nbrunch food and drinks\n\nThere are vendors of all kinds selling fresh produce\, homemade canned goods\, arts and crafts. \nVisit their website for vendor information – https://delcambremarket.org/
URL:https://parishpopups.com/event/delcambre-seafood-farmers-market/2028-09-02/
LOCATION:Delcambre Seafood Market\, 605 S Railroad Street (Hwy 330)\, Delcambre\, LA\, 70528\, United States
ATTACH;FMTTYPE=image/png:https://parishpopups.com/wp-content/uploads/2025/05/Screenshot-2025-05-22-at-10.28.13 AM.png
END:VEVENT
BEGIN:VEVENT
DTSTART;TZID=America/Chicago:20280909T080000
DTEND;TZID=America/Chicago:20280909T120000
DTSTAMP:20260421T070612
CREATED:20250522T152326Z
LAST-MODIFIED:20250522T152326Z
UID:10000216-1852099200-1852113600@parishpopups.com
SUMMARY:Lafayette Farmers & Artisan Market
DESCRIPTION:The Lafayette Farmers and Artisans Market provides access to affordable food and consumer education by serving as a premier venue for seasonal\, farm-based products and artisanal creations offered by local producers. \n  \nSupport local farmers and makers every Saturday at Moncus Park \nVendor Applications are Currently Closed
URL:https://parishpopups.com/event/lafayette-farmers-artisan-market/2028-09-09/
LOCATION:Moncus Park\, 2913 Johnston St.\, Lafayette\, LA\, 70510\, United States
ATTACH;FMTTYPE=image/png:https://parishpopups.com/wp-content/uploads/2025/05/Screenshot-2025-05-22-at-10.22.44 AM.png
END:VEVENT
BEGIN:VEVENT
DTSTART;TZID=America/Chicago:20280916T080000
DTEND;TZID=America/Chicago:20280916T120000
DTSTAMP:20260421T070612
CREATED:20250522T152326Z
LAST-MODIFIED:20250522T152326Z
UID:10000217-1852704000-1852718400@parishpopups.com
SUMMARY:Lafayette Farmers & Artisan Market
DESCRIPTION:The Lafayette Farmers and Artisans Market provides access to affordable food and consumer education by serving as a premier venue for seasonal\, farm-based products and artisanal creations offered by local producers. \n  \nSupport local farmers and makers every Saturday at Moncus Park \nVendor Applications are Currently Closed
URL:https://parishpopups.com/event/lafayette-farmers-artisan-market/2028-09-16/
LOCATION:Moncus Park\, 2913 Johnston St.\, Lafayette\, LA\, 70510\, United States
ATTACH;FMTTYPE=image/png:https://parishpopups.com/wp-content/uploads/2025/05/Screenshot-2025-05-22-at-10.22.44 AM.png
END:VEVENT
BEGIN:VEVENT
DTSTART;TZID=America/Chicago:20280923T080000
DTEND;TZID=America/Chicago:20280923T120000
DTSTAMP:20260421T070612
CREATED:20250522T152326Z
LAST-MODIFIED:20250522T152326Z
UID:10000218-1853308800-1853323200@parishpopups.com
SUMMARY:Lafayette Farmers & Artisan Market
DESCRIPTION:The Lafayette Farmers and Artisans Market provides access to affordable food and consumer education by serving as a premier venue for seasonal\, farm-based products and artisanal creations offered by local producers. \n  \nSupport local farmers and makers every Saturday at Moncus Park \nVendor Applications are Currently Closed
URL:https://parishpopups.com/event/lafayette-farmers-artisan-market/2028-09-23/
LOCATION:Moncus Park\, 2913 Johnston St.\, Lafayette\, LA\, 70510\, United States
ATTACH;FMTTYPE=image/png:https://parishpopups.com/wp-content/uploads/2025/05/Screenshot-2025-05-22-at-10.22.44 AM.png
END:VEVENT
BEGIN:VEVENT
DTSTART;TZID=America/Chicago:20280930T080000
DTEND;TZID=America/Chicago:20280930T120000
DTSTAMP:20260421T070612
CREATED:20250522T152326Z
LAST-MODIFIED:20250522T152326Z
UID:10000219-1853913600-1853928000@parishpopups.com
SUMMARY:Lafayette Farmers & Artisan Market
DESCRIPTION:The Lafayette Farmers and Artisans Market provides access to affordable food and consumer education by serving as a premier venue for seasonal\, farm-based products and artisanal creations offered by local producers. \n  \nSupport local farmers and makers every Saturday at Moncus Park \nVendor Applications are Currently Closed
URL:https://parishpopups.com/event/lafayette-farmers-artisan-market/2028-09-30/
LOCATION:Moncus Park\, 2913 Johnston St.\, Lafayette\, LA\, 70510\, United States
ATTACH;FMTTYPE=image/png:https://parishpopups.com/wp-content/uploads/2025/05/Screenshot-2025-05-22-at-10.22.44 AM.png
END:VEVENT
BEGIN:VEVENT
DTSTART;TZID=America/Chicago:20281007T080000
DTEND;TZID=America/Chicago:20281007T120000
DTSTAMP:20260421T070612
CREATED:20250522T152326Z
LAST-MODIFIED:20250522T152326Z
UID:10000220-1854518400-1854532800@parishpopups.com
SUMMARY:Lafayette Farmers & Artisan Market
DESCRIPTION:The Lafayette Farmers and Artisans Market provides access to affordable food and consumer education by serving as a premier venue for seasonal\, farm-based products and artisanal creations offered by local producers. \n  \nSupport local farmers and makers every Saturday at Moncus Park \nVendor Applications are Currently Closed
URL:https://parishpopups.com/event/lafayette-farmers-artisan-market/2028-10-07/
LOCATION:Moncus Park\, 2913 Johnston St.\, Lafayette\, LA\, 70510\, United States
ATTACH;FMTTYPE=image/png:https://parishpopups.com/wp-content/uploads/2025/05/Screenshot-2025-05-22-at-10.22.44 AM.png
END:VEVENT
BEGIN:VEVENT
DTSTART;TZID=America/Chicago:20281007T090000
DTEND;TZID=America/Chicago:20281007T130000
DTSTAMP:20260421T070612
CREATED:20250522T152923Z
LAST-MODIFIED:20250703T201859Z
UID:10000536-1854522000-1854536400@parishpopups.com
SUMMARY:Delcambre Seafood & Farmers Market
DESCRIPTION:Located on the water\, the Delcambre Seafood and Farmers Market offers \n\nfresh shrimp off the boats in season\n60+ vendors under a large covered pavilion\nlive music\nkids activities\nbrunch food and drinks\n\nThere are vendors of all kinds selling fresh produce\, homemade canned goods\, arts and crafts. \nVisit their website for vendor information – https://delcambremarket.org/
URL:https://parishpopups.com/event/delcambre-seafood-farmers-market/2028-10-07/
LOCATION:Delcambre Seafood Market\, 605 S Railroad Street (Hwy 330)\, Delcambre\, LA\, 70528\, United States
ATTACH;FMTTYPE=image/png:https://parishpopups.com/wp-content/uploads/2025/05/Screenshot-2025-05-22-at-10.28.13 AM.png
END:VEVENT
BEGIN:VEVENT
DTSTART;TZID=America/Chicago:20281014T080000
DTEND;TZID=America/Chicago:20281014T120000
DTSTAMP:20260421T070612
CREATED:20250522T152326Z
LAST-MODIFIED:20250522T152326Z
UID:10000221-1855123200-1855137600@parishpopups.com
SUMMARY:Lafayette Farmers & Artisan Market
DESCRIPTION:The Lafayette Farmers and Artisans Market provides access to affordable food and consumer education by serving as a premier venue for seasonal\, farm-based products and artisanal creations offered by local producers. \n  \nSupport local farmers and makers every Saturday at Moncus Park \nVendor Applications are Currently Closed
URL:https://parishpopups.com/event/lafayette-farmers-artisan-market/2028-10-14/
LOCATION:Moncus Park\, 2913 Johnston St.\, Lafayette\, LA\, 70510\, United States
ATTACH;FMTTYPE=image/png:https://parishpopups.com/wp-content/uploads/2025/05/Screenshot-2025-05-22-at-10.22.44 AM.png
END:VEVENT
BEGIN:VEVENT
DTSTART;TZID=America/Chicago:20281021T080000
DTEND;TZID=America/Chicago:20281021T120000
DTSTAMP:20260421T070612
CREATED:20250522T152326Z
LAST-MODIFIED:20250522T152326Z
UID:10000222-1855728000-1855742400@parishpopups.com
SUMMARY:Lafayette Farmers & Artisan Market
DESCRIPTION:The Lafayette Farmers and Artisans Market provides access to affordable food and consumer education by serving as a premier venue for seasonal\, farm-based products and artisanal creations offered by local producers. \n  \nSupport local farmers and makers every Saturday at Moncus Park \nVendor Applications are Currently Closed
URL:https://parishpopups.com/event/lafayette-farmers-artisan-market/2028-10-21/
LOCATION:Moncus Park\, 2913 Johnston St.\, Lafayette\, LA\, 70510\, United States
ATTACH;FMTTYPE=image/png:https://parishpopups.com/wp-content/uploads/2025/05/Screenshot-2025-05-22-at-10.22.44 AM.png
END:VEVENT
BEGIN:VEVENT
DTSTART;TZID=America/Chicago:20281028T080000
DTEND;TZID=America/Chicago:20281028T120000
DTSTAMP:20260421T070612
CREATED:20250522T152326Z
LAST-MODIFIED:20250522T152326Z
UID:10000223-1856332800-1856347200@parishpopups.com
SUMMARY:Lafayette Farmers & Artisan Market
DESCRIPTION:The Lafayette Farmers and Artisans Market provides access to affordable food and consumer education by serving as a premier venue for seasonal\, farm-based products and artisanal creations offered by local producers. \n  \nSupport local farmers and makers every Saturday at Moncus Park \nVendor Applications are Currently Closed
URL:https://parishpopups.com/event/lafayette-farmers-artisan-market/2028-10-28/
LOCATION:Moncus Park\, 2913 Johnston St.\, Lafayette\, LA\, 70510\, United States
ATTACH;FMTTYPE=image/png:https://parishpopups.com/wp-content/uploads/2025/05/Screenshot-2025-05-22-at-10.22.44 AM.png
END:VEVENT
BEGIN:VEVENT
DTSTART;TZID=America/Chicago:20281104T080000
DTEND;TZID=America/Chicago:20281104T120000
DTSTAMP:20260421T070612
CREATED:20250522T152326Z
LAST-MODIFIED:20250522T152326Z
UID:10000224-1856937600-1856952000@parishpopups.com
SUMMARY:Lafayette Farmers & Artisan Market
DESCRIPTION:The Lafayette Farmers and Artisans Market provides access to affordable food and consumer education by serving as a premier venue for seasonal\, farm-based products and artisanal creations offered by local producers. \n  \nSupport local farmers and makers every Saturday at Moncus Park \nVendor Applications are Currently Closed
URL:https://parishpopups.com/event/lafayette-farmers-artisan-market/2028-11-04/
LOCATION:Moncus Park\, 2913 Johnston St.\, Lafayette\, LA\, 70510\, United States
ATTACH;FMTTYPE=image/png:https://parishpopups.com/wp-content/uploads/2025/05/Screenshot-2025-05-22-at-10.22.44 AM.png
END:VEVENT
BEGIN:VEVENT
DTSTART;TZID=America/Chicago:20281104T090000
DTEND;TZID=America/Chicago:20281104T130000
DTSTAMP:20260421T070612
CREATED:20250522T152923Z
LAST-MODIFIED:20250703T201859Z
UID:10000537-1856941200-1856955600@parishpopups.com
SUMMARY:Delcambre Seafood & Farmers Market
DESCRIPTION:Located on the water\, the Delcambre Seafood and Farmers Market offers \n\nfresh shrimp off the boats in season\n60+ vendors under a large covered pavilion\nlive music\nkids activities\nbrunch food and drinks\n\nThere are vendors of all kinds selling fresh produce\, homemade canned goods\, arts and crafts. \nVisit their website for vendor information – https://delcambremarket.org/
URL:https://parishpopups.com/event/delcambre-seafood-farmers-market/2028-11-04/
LOCATION:Delcambre Seafood Market\, 605 S Railroad Street (Hwy 330)\, Delcambre\, LA\, 70528\, United States
ATTACH;FMTTYPE=image/png:https://parishpopups.com/wp-content/uploads/2025/05/Screenshot-2025-05-22-at-10.28.13 AM.png
END:VEVENT
BEGIN:VEVENT
DTSTART;TZID=America/Chicago:20281111T080000
DTEND;TZID=America/Chicago:20281111T120000
DTSTAMP:20260421T070612
CREATED:20250522T152326Z
LAST-MODIFIED:20250522T152326Z
UID:10000225-1857542400-1857556800@parishpopups.com
SUMMARY:Lafayette Farmers & Artisan Market
DESCRIPTION:The Lafayette Farmers and Artisans Market provides access to affordable food and consumer education by serving as a premier venue for seasonal\, farm-based products and artisanal creations offered by local producers. \n  \nSupport local farmers and makers every Saturday at Moncus Park \nVendor Applications are Currently Closed
URL:https://parishpopups.com/event/lafayette-farmers-artisan-market/2028-11-11/
LOCATION:Moncus Park\, 2913 Johnston St.\, Lafayette\, LA\, 70510\, United States
ATTACH;FMTTYPE=image/png:https://parishpopups.com/wp-content/uploads/2025/05/Screenshot-2025-05-22-at-10.22.44 AM.png
END:VEVENT
BEGIN:VEVENT
DTSTART;TZID=America/Chicago:20281118T080000
DTEND;TZID=America/Chicago:20281118T120000
DTSTAMP:20260421T070612
CREATED:20250522T152326Z
LAST-MODIFIED:20250522T152326Z
UID:10000226-1858147200-1858161600@parishpopups.com
SUMMARY:Lafayette Farmers & Artisan Market
DESCRIPTION:The Lafayette Farmers and Artisans Market provides access to affordable food and consumer education by serving as a premier venue for seasonal\, farm-based products and artisanal creations offered by local producers. \n  \nSupport local farmers and makers every Saturday at Moncus Park \nVendor Applications are Currently Closed
URL:https://parishpopups.com/event/lafayette-farmers-artisan-market/2028-11-18/
LOCATION:Moncus Park\, 2913 Johnston St.\, Lafayette\, LA\, 70510\, United States
ATTACH;FMTTYPE=image/png:https://parishpopups.com/wp-content/uploads/2025/05/Screenshot-2025-05-22-at-10.22.44 AM.png
END:VEVENT
BEGIN:VEVENT
DTSTART;TZID=America/Chicago:20281125T080000
DTEND;TZID=America/Chicago:20281125T120000
DTSTAMP:20260421T070612
CREATED:20250522T152326Z
LAST-MODIFIED:20250522T152326Z
UID:10000227-1858752000-1858766400@parishpopups.com
SUMMARY:Lafayette Farmers & Artisan Market
DESCRIPTION:The Lafayette Farmers and Artisans Market provides access to affordable food and consumer education by serving as a premier venue for seasonal\, farm-based products and artisanal creations offered by local producers. \n  \nSupport local farmers and makers every Saturday at Moncus Park \nVendor Applications are Currently Closed
URL:https://parishpopups.com/event/lafayette-farmers-artisan-market/2028-11-25/
LOCATION:Moncus Park\, 2913 Johnston St.\, Lafayette\, LA\, 70510\, United States
ATTACH;FMTTYPE=image/png:https://parishpopups.com/wp-content/uploads/2025/05/Screenshot-2025-05-22-at-10.22.44 AM.png
END:VEVENT
BEGIN:VEVENT
DTSTART;TZID=America/Chicago:20281202T080000
DTEND;TZID=America/Chicago:20281202T120000
DTSTAMP:20260421T070612
CREATED:20250522T152326Z
LAST-MODIFIED:20250522T152326Z
UID:10000228-1859356800-1859371200@parishpopups.com
SUMMARY:Lafayette Farmers & Artisan Market
DESCRIPTION:The Lafayette Farmers and Artisans Market provides access to affordable food and consumer education by serving as a premier venue for seasonal\, farm-based products and artisanal creations offered by local producers. \n  \nSupport local farmers and makers every Saturday at Moncus Park \nVendor Applications are Currently Closed
URL:https://parishpopups.com/event/lafayette-farmers-artisan-market/2028-12-02/
LOCATION:Moncus Park\, 2913 Johnston St.\, Lafayette\, LA\, 70510\, United States
ATTACH;FMTTYPE=image/png:https://parishpopups.com/wp-content/uploads/2025/05/Screenshot-2025-05-22-at-10.22.44 AM.png
END:VEVENT
BEGIN:VEVENT
DTSTART;TZID=America/Chicago:20281202T090000
DTEND;TZID=America/Chicago:20281202T130000
DTSTAMP:20260421T070612
CREATED:20250522T152923Z
LAST-MODIFIED:20250703T201859Z
UID:10000538-1859360400-1859374800@parishpopups.com
SUMMARY:Delcambre Seafood & Farmers Market
DESCRIPTION:Located on the water\, the Delcambre Seafood and Farmers Market offers \n\nfresh shrimp off the boats in season\n60+ vendors under a large covered pavilion\nlive music\nkids activities\nbrunch food and drinks\n\nThere are vendors of all kinds selling fresh produce\, homemade canned goods\, arts and crafts. \nVisit their website for vendor information – https://delcambremarket.org/
URL:https://parishpopups.com/event/delcambre-seafood-farmers-market/2028-12-02/
LOCATION:Delcambre Seafood Market\, 605 S Railroad Street (Hwy 330)\, Delcambre\, LA\, 70528\, United States
ATTACH;FMTTYPE=image/png:https://parishpopups.com/wp-content/uploads/2025/05/Screenshot-2025-05-22-at-10.28.13 AM.png
END:VEVENT
BEGIN:VEVENT
DTSTART;TZID=America/Chicago:20281209T080000
DTEND;TZID=America/Chicago:20281209T120000
DTSTAMP:20260421T070612
CREATED:20250522T152326Z
LAST-MODIFIED:20250522T152326Z
UID:10000229-1859961600-1859976000@parishpopups.com
SUMMARY:Lafayette Farmers & Artisan Market
DESCRIPTION:The Lafayette Farmers and Artisans Market provides access to affordable food and consumer education by serving as a premier venue for seasonal\, farm-based products and artisanal creations offered by local producers. \n  \nSupport local farmers and makers every Saturday at Moncus Park \nVendor Applications are Currently Closed
URL:https://parishpopups.com/event/lafayette-farmers-artisan-market/2028-12-09/
LOCATION:Moncus Park\, 2913 Johnston St.\, Lafayette\, LA\, 70510\, United States
ATTACH;FMTTYPE=image/png:https://parishpopups.com/wp-content/uploads/2025/05/Screenshot-2025-05-22-at-10.22.44 AM.png
END:VEVENT
BEGIN:VEVENT
DTSTART;TZID=America/Chicago:20281216T080000
DTEND;TZID=America/Chicago:20281216T120000
DTSTAMP:20260421T070612
CREATED:20250522T152326Z
LAST-MODIFIED:20250522T152326Z
UID:10000230-1860566400-1860580800@parishpopups.com
SUMMARY:Lafayette Farmers & Artisan Market
DESCRIPTION:The Lafayette Farmers and Artisans Market provides access to affordable food and consumer education by serving as a premier venue for seasonal\, farm-based products and artisanal creations offered by local producers. \n  \nSupport local farmers and makers every Saturday at Moncus Park \nVendor Applications are Currently Closed
URL:https://parishpopups.com/event/lafayette-farmers-artisan-market/2028-12-16/
LOCATION:Moncus Park\, 2913 Johnston St.\, Lafayette\, LA\, 70510\, United States
ATTACH;FMTTYPE=image/png:https://parishpopups.com/wp-content/uploads/2025/05/Screenshot-2025-05-22-at-10.22.44 AM.png
END:VEVENT
BEGIN:VEVENT
DTSTART;TZID=America/Chicago:20281223T080000
DTEND;TZID=America/Chicago:20281223T120000
DTSTAMP:20260421T070612
CREATED:20250522T152326Z
LAST-MODIFIED:20250522T152326Z
UID:10000231-1861171200-1861185600@parishpopups.com
SUMMARY:Lafayette Farmers & Artisan Market
DESCRIPTION:The Lafayette Farmers and Artisans Market provides access to affordable food and consumer education by serving as a premier venue for seasonal\, farm-based products and artisanal creations offered by local producers. \n  \nSupport local farmers and makers every Saturday at Moncus Park \nVendor Applications are Currently Closed
URL:https://parishpopups.com/event/lafayette-farmers-artisan-market/2028-12-23/
LOCATION:Moncus Park\, 2913 Johnston St.\, Lafayette\, LA\, 70510\, United States
ATTACH;FMTTYPE=image/png:https://parishpopups.com/wp-content/uploads/2025/05/Screenshot-2025-05-22-at-10.22.44 AM.png
END:VEVENT
BEGIN:VEVENT
DTSTART;TZID=America/Chicago:20281230T080000
DTEND;TZID=America/Chicago:20281230T120000
DTSTAMP:20260421T070612
CREATED:20250522T152326Z
LAST-MODIFIED:20250522T152326Z
UID:10000232-1861776000-1861790400@parishpopups.com
SUMMARY:Lafayette Farmers & Artisan Market
DESCRIPTION:The Lafayette Farmers and Artisans Market provides access to affordable food and consumer education by serving as a premier venue for seasonal\, farm-based products and artisanal creations offered by local producers. \n  \nSupport local farmers and makers every Saturday at Moncus Park \nVendor Applications are Currently Closed
URL:https://parishpopups.com/event/lafayette-farmers-artisan-market/2028-12-30/
LOCATION:Moncus Park\, 2913 Johnston St.\, Lafayette\, LA\, 70510\, United States
ATTACH;FMTTYPE=image/png:https://parishpopups.com/wp-content/uploads/2025/05/Screenshot-2025-05-22-at-10.22.44 AM.png
END:VEVENT
BEGIN:VEVENT
DTSTART;TZID=America/Chicago:20290106T080000
DTEND;TZID=America/Chicago:20290106T120000
DTSTAMP:20260421T070612
CREATED:20250522T152326Z
LAST-MODIFIED:20250522T152326Z
UID:10000233-1862380800-1862395200@parishpopups.com
SUMMARY:Lafayette Farmers & Artisan Market
DESCRIPTION:The Lafayette Farmers and Artisans Market provides access to affordable food and consumer education by serving as a premier venue for seasonal\, farm-based products and artisanal creations offered by local producers. \n  \nSupport local farmers and makers every Saturday at Moncus Park \nVendor Applications are Currently Closed
URL:https://parishpopups.com/event/lafayette-farmers-artisan-market/2029-01-06/
LOCATION:Moncus Park\, 2913 Johnston St.\, Lafayette\, LA\, 70510\, United States
ATTACH;FMTTYPE=image/png:https://parishpopups.com/wp-content/uploads/2025/05/Screenshot-2025-05-22-at-10.22.44 AM.png
END:VEVENT
END:VCALENDAR