BEGIN:VCALENDAR
VERSION:2.0
PRODID:-//Parish Pop-Ups - ECPv6.13.2.1//NONSGML v1.0//EN
CALSCALE:GREGORIAN
METHOD:PUBLISH
X-WR-CALNAME:Parish Pop-Ups
X-ORIGINAL-URL:https://parishpopups.com
X-WR-CALDESC:Events for Parish Pop-Ups
REFRESH-INTERVAL;VALUE=DURATION:PT1H
X-Robots-Tag:noindex
X-PUBLISHED-TTL:PT1H
BEGIN:VTIMEZONE
TZID:America/Chicago
BEGIN:DAYLIGHT
TZOFFSETFROM:-0600
TZOFFSETTO:-0500
TZNAME:CDT
DTSTART:20290311T080000
END:DAYLIGHT
BEGIN:STANDARD
TZOFFSETFROM:-0500
TZOFFSETTO:-0600
TZNAME:CST
DTSTART:20291104T070000
END:STANDARD
BEGIN:DAYLIGHT
TZOFFSETFROM:-0600
TZOFFSETTO:-0500
TZNAME:CDT
DTSTART:20300310T080000
END:DAYLIGHT
BEGIN:STANDARD
TZOFFSETFROM:-0500
TZOFFSETTO:-0600
TZNAME:CST
DTSTART:20301103T070000
END:STANDARD
END:VTIMEZONE
BEGIN:VEVENT
DTSTART;TZID=America/Chicago:20290908T080000
DTEND;TZID=America/Chicago:20290908T120000
DTSTAMP:20260421T174849
CREATED:20250522T152326Z
LAST-MODIFIED:20250522T152326Z
UID:10000268-1883548800-1883563200@parishpopups.com
SUMMARY:Lafayette Farmers & Artisan Market
DESCRIPTION:The Lafayette Farmers and Artisans Market provides access to affordable food and consumer education by serving as a premier venue for seasonal\, farm-based products and artisanal creations offered by local producers. \n  \nSupport local farmers and makers every Saturday at Moncus Park \nVendor Applications are Currently Closed
URL:https://parishpopups.com/event/lafayette-farmers-artisan-market/2029-09-08/
LOCATION:Moncus Park\, 2913 Johnston St.\, Lafayette\, LA\, 70510\, United States
ATTACH;FMTTYPE=image/png:https://parishpopups.com/wp-content/uploads/2025/05/Screenshot-2025-05-22-at-10.22.44 AM.png
END:VEVENT
BEGIN:VEVENT
DTSTART;TZID=America/Chicago:20290915T080000
DTEND;TZID=America/Chicago:20290915T120000
DTSTAMP:20260421T174849
CREATED:20250522T152326Z
LAST-MODIFIED:20250522T152326Z
UID:10000269-1884153600-1884168000@parishpopups.com
SUMMARY:Lafayette Farmers & Artisan Market
DESCRIPTION:The Lafayette Farmers and Artisans Market provides access to affordable food and consumer education by serving as a premier venue for seasonal\, farm-based products and artisanal creations offered by local producers. \n  \nSupport local farmers and makers every Saturday at Moncus Park \nVendor Applications are Currently Closed
URL:https://parishpopups.com/event/lafayette-farmers-artisan-market/2029-09-15/
LOCATION:Moncus Park\, 2913 Johnston St.\, Lafayette\, LA\, 70510\, United States
ATTACH;FMTTYPE=image/png:https://parishpopups.com/wp-content/uploads/2025/05/Screenshot-2025-05-22-at-10.22.44 AM.png
END:VEVENT
BEGIN:VEVENT
DTSTART;TZID=America/Chicago:20290922T080000
DTEND;TZID=America/Chicago:20290922T120000
DTSTAMP:20260421T174849
CREATED:20250522T152326Z
LAST-MODIFIED:20250522T152326Z
UID:10000270-1884758400-1884772800@parishpopups.com
SUMMARY:Lafayette Farmers & Artisan Market
DESCRIPTION:The Lafayette Farmers and Artisans Market provides access to affordable food and consumer education by serving as a premier venue for seasonal\, farm-based products and artisanal creations offered by local producers. \n  \nSupport local farmers and makers every Saturday at Moncus Park \nVendor Applications are Currently Closed
URL:https://parishpopups.com/event/lafayette-farmers-artisan-market/2029-09-22/
LOCATION:Moncus Park\, 2913 Johnston St.\, Lafayette\, LA\, 70510\, United States
ATTACH;FMTTYPE=image/png:https://parishpopups.com/wp-content/uploads/2025/05/Screenshot-2025-05-22-at-10.22.44 AM.png
END:VEVENT
BEGIN:VEVENT
DTSTART;TZID=America/Chicago:20290929T080000
DTEND;TZID=America/Chicago:20290929T120000
DTSTAMP:20260421T174849
CREATED:20250522T152326Z
LAST-MODIFIED:20250522T152326Z
UID:10000271-1885363200-1885377600@parishpopups.com
SUMMARY:Lafayette Farmers & Artisan Market
DESCRIPTION:The Lafayette Farmers and Artisans Market provides access to affordable food and consumer education by serving as a premier venue for seasonal\, farm-based products and artisanal creations offered by local producers. \n  \nSupport local farmers and makers every Saturday at Moncus Park \nVendor Applications are Currently Closed
URL:https://parishpopups.com/event/lafayette-farmers-artisan-market/2029-09-29/
LOCATION:Moncus Park\, 2913 Johnston St.\, Lafayette\, LA\, 70510\, United States
ATTACH;FMTTYPE=image/png:https://parishpopups.com/wp-content/uploads/2025/05/Screenshot-2025-05-22-at-10.22.44 AM.png
END:VEVENT
BEGIN:VEVENT
DTSTART;TZID=America/Chicago:20291006T080000
DTEND;TZID=America/Chicago:20291006T120000
DTSTAMP:20260421T174849
CREATED:20250522T152326Z
LAST-MODIFIED:20250522T152326Z
UID:10000272-1885968000-1885982400@parishpopups.com
SUMMARY:Lafayette Farmers & Artisan Market
DESCRIPTION:The Lafayette Farmers and Artisans Market provides access to affordable food and consumer education by serving as a premier venue for seasonal\, farm-based products and artisanal creations offered by local producers. \n  \nSupport local farmers and makers every Saturday at Moncus Park \nVendor Applications are Currently Closed
URL:https://parishpopups.com/event/lafayette-farmers-artisan-market/2029-10-06/
LOCATION:Moncus Park\, 2913 Johnston St.\, Lafayette\, LA\, 70510\, United States
ATTACH;FMTTYPE=image/png:https://parishpopups.com/wp-content/uploads/2025/05/Screenshot-2025-05-22-at-10.22.44 AM.png
END:VEVENT
BEGIN:VEVENT
DTSTART;TZID=America/Chicago:20291006T090000
DTEND;TZID=America/Chicago:20291006T130000
DTSTAMP:20260421T174849
CREATED:20250522T152923Z
LAST-MODIFIED:20250703T201859Z
UID:10000548-1885971600-1885986000@parishpopups.com
SUMMARY:Delcambre Seafood & Farmers Market
DESCRIPTION:Located on the water\, the Delcambre Seafood and Farmers Market offers \n\nfresh shrimp off the boats in season\n60+ vendors under a large covered pavilion\nlive music\nkids activities\nbrunch food and drinks\n\nThere are vendors of all kinds selling fresh produce\, homemade canned goods\, arts and crafts. \nVisit their website for vendor information – https://delcambremarket.org/
URL:https://parishpopups.com/event/delcambre-seafood-farmers-market/2029-10-06/
LOCATION:Delcambre Seafood Market\, 605 S Railroad Street (Hwy 330)\, Delcambre\, LA\, 70528\, United States
ATTACH;FMTTYPE=image/png:https://parishpopups.com/wp-content/uploads/2025/05/Screenshot-2025-05-22-at-10.28.13 AM.png
END:VEVENT
BEGIN:VEVENT
DTSTART;TZID=America/Chicago:20291013T080000
DTEND;TZID=America/Chicago:20291013T120000
DTSTAMP:20260421T174849
CREATED:20250522T152326Z
LAST-MODIFIED:20250522T152326Z
UID:10000273-1886572800-1886587200@parishpopups.com
SUMMARY:Lafayette Farmers & Artisan Market
DESCRIPTION:The Lafayette Farmers and Artisans Market provides access to affordable food and consumer education by serving as a premier venue for seasonal\, farm-based products and artisanal creations offered by local producers. \n  \nSupport local farmers and makers every Saturday at Moncus Park \nVendor Applications are Currently Closed
URL:https://parishpopups.com/event/lafayette-farmers-artisan-market/2029-10-13/
LOCATION:Moncus Park\, 2913 Johnston St.\, Lafayette\, LA\, 70510\, United States
ATTACH;FMTTYPE=image/png:https://parishpopups.com/wp-content/uploads/2025/05/Screenshot-2025-05-22-at-10.22.44 AM.png
END:VEVENT
BEGIN:VEVENT
DTSTART;TZID=America/Chicago:20291020T080000
DTEND;TZID=America/Chicago:20291020T120000
DTSTAMP:20260421T174849
CREATED:20250522T152326Z
LAST-MODIFIED:20250522T152326Z
UID:10000274-1887177600-1887192000@parishpopups.com
SUMMARY:Lafayette Farmers & Artisan Market
DESCRIPTION:The Lafayette Farmers and Artisans Market provides access to affordable food and consumer education by serving as a premier venue for seasonal\, farm-based products and artisanal creations offered by local producers. \n  \nSupport local farmers and makers every Saturday at Moncus Park \nVendor Applications are Currently Closed
URL:https://parishpopups.com/event/lafayette-farmers-artisan-market/2029-10-20/
LOCATION:Moncus Park\, 2913 Johnston St.\, Lafayette\, LA\, 70510\, United States
ATTACH;FMTTYPE=image/png:https://parishpopups.com/wp-content/uploads/2025/05/Screenshot-2025-05-22-at-10.22.44 AM.png
END:VEVENT
BEGIN:VEVENT
DTSTART;TZID=America/Chicago:20291027T080000
DTEND;TZID=America/Chicago:20291027T120000
DTSTAMP:20260421T174849
CREATED:20250522T152326Z
LAST-MODIFIED:20250522T152326Z
UID:10000275-1887782400-1887796800@parishpopups.com
SUMMARY:Lafayette Farmers & Artisan Market
DESCRIPTION:The Lafayette Farmers and Artisans Market provides access to affordable food and consumer education by serving as a premier venue for seasonal\, farm-based products and artisanal creations offered by local producers. \n  \nSupport local farmers and makers every Saturday at Moncus Park \nVendor Applications are Currently Closed
URL:https://parishpopups.com/event/lafayette-farmers-artisan-market/2029-10-27/
LOCATION:Moncus Park\, 2913 Johnston St.\, Lafayette\, LA\, 70510\, United States
ATTACH;FMTTYPE=image/png:https://parishpopups.com/wp-content/uploads/2025/05/Screenshot-2025-05-22-at-10.22.44 AM.png
END:VEVENT
BEGIN:VEVENT
DTSTART;TZID=America/Chicago:20291103T080000
DTEND;TZID=America/Chicago:20291103T120000
DTSTAMP:20260421T174849
CREATED:20250522T152326Z
LAST-MODIFIED:20250522T152326Z
UID:10000276-1888387200-1888401600@parishpopups.com
SUMMARY:Lafayette Farmers & Artisan Market
DESCRIPTION:The Lafayette Farmers and Artisans Market provides access to affordable food and consumer education by serving as a premier venue for seasonal\, farm-based products and artisanal creations offered by local producers. \n  \nSupport local farmers and makers every Saturday at Moncus Park \nVendor Applications are Currently Closed
URL:https://parishpopups.com/event/lafayette-farmers-artisan-market/2029-11-03/
LOCATION:Moncus Park\, 2913 Johnston St.\, Lafayette\, LA\, 70510\, United States
ATTACH;FMTTYPE=image/png:https://parishpopups.com/wp-content/uploads/2025/05/Screenshot-2025-05-22-at-10.22.44 AM.png
END:VEVENT
BEGIN:VEVENT
DTSTART;TZID=America/Chicago:20291103T090000
DTEND;TZID=America/Chicago:20291103T130000
DTSTAMP:20260421T174849
CREATED:20250522T152923Z
LAST-MODIFIED:20250703T201859Z
UID:10000549-1888390800-1888405200@parishpopups.com
SUMMARY:Delcambre Seafood & Farmers Market
DESCRIPTION:Located on the water\, the Delcambre Seafood and Farmers Market offers \n\nfresh shrimp off the boats in season\n60+ vendors under a large covered pavilion\nlive music\nkids activities\nbrunch food and drinks\n\nThere are vendors of all kinds selling fresh produce\, homemade canned goods\, arts and crafts. \nVisit their website for vendor information – https://delcambremarket.org/
URL:https://parishpopups.com/event/delcambre-seafood-farmers-market/2029-11-03/
LOCATION:Delcambre Seafood Market\, 605 S Railroad Street (Hwy 330)\, Delcambre\, LA\, 70528\, United States
ATTACH;FMTTYPE=image/png:https://parishpopups.com/wp-content/uploads/2025/05/Screenshot-2025-05-22-at-10.28.13 AM.png
END:VEVENT
BEGIN:VEVENT
DTSTART;TZID=America/Chicago:20291110T080000
DTEND;TZID=America/Chicago:20291110T120000
DTSTAMP:20260421T174849
CREATED:20250522T152326Z
LAST-MODIFIED:20250522T152326Z
UID:10000277-1888992000-1889006400@parishpopups.com
SUMMARY:Lafayette Farmers & Artisan Market
DESCRIPTION:The Lafayette Farmers and Artisans Market provides access to affordable food and consumer education by serving as a premier venue for seasonal\, farm-based products and artisanal creations offered by local producers. \n  \nSupport local farmers and makers every Saturday at Moncus Park \nVendor Applications are Currently Closed
URL:https://parishpopups.com/event/lafayette-farmers-artisan-market/2029-11-10/
LOCATION:Moncus Park\, 2913 Johnston St.\, Lafayette\, LA\, 70510\, United States
ATTACH;FMTTYPE=image/png:https://parishpopups.com/wp-content/uploads/2025/05/Screenshot-2025-05-22-at-10.22.44 AM.png
END:VEVENT
BEGIN:VEVENT
DTSTART;TZID=America/Chicago:20291117T080000
DTEND;TZID=America/Chicago:20291117T120000
DTSTAMP:20260421T174849
CREATED:20250522T152326Z
LAST-MODIFIED:20250522T152326Z
UID:10000278-1889596800-1889611200@parishpopups.com
SUMMARY:Lafayette Farmers & Artisan Market
DESCRIPTION:The Lafayette Farmers and Artisans Market provides access to affordable food and consumer education by serving as a premier venue for seasonal\, farm-based products and artisanal creations offered by local producers. \n  \nSupport local farmers and makers every Saturday at Moncus Park \nVendor Applications are Currently Closed
URL:https://parishpopups.com/event/lafayette-farmers-artisan-market/2029-11-17/
LOCATION:Moncus Park\, 2913 Johnston St.\, Lafayette\, LA\, 70510\, United States
ATTACH;FMTTYPE=image/png:https://parishpopups.com/wp-content/uploads/2025/05/Screenshot-2025-05-22-at-10.22.44 AM.png
END:VEVENT
BEGIN:VEVENT
DTSTART;TZID=America/Chicago:20291124T080000
DTEND;TZID=America/Chicago:20291124T120000
DTSTAMP:20260421T174849
CREATED:20250522T152326Z
LAST-MODIFIED:20250522T152326Z
UID:10000279-1890201600-1890216000@parishpopups.com
SUMMARY:Lafayette Farmers & Artisan Market
DESCRIPTION:The Lafayette Farmers and Artisans Market provides access to affordable food and consumer education by serving as a premier venue for seasonal\, farm-based products and artisanal creations offered by local producers. \n  \nSupport local farmers and makers every Saturday at Moncus Park \nVendor Applications are Currently Closed
URL:https://parishpopups.com/event/lafayette-farmers-artisan-market/2029-11-24/
LOCATION:Moncus Park\, 2913 Johnston St.\, Lafayette\, LA\, 70510\, United States
ATTACH;FMTTYPE=image/png:https://parishpopups.com/wp-content/uploads/2025/05/Screenshot-2025-05-22-at-10.22.44 AM.png
END:VEVENT
BEGIN:VEVENT
DTSTART;TZID=America/Chicago:20291201T080000
DTEND;TZID=America/Chicago:20291201T120000
DTSTAMP:20260421T174849
CREATED:20250522T152326Z
LAST-MODIFIED:20250522T152326Z
UID:10000280-1890806400-1890820800@parishpopups.com
SUMMARY:Lafayette Farmers & Artisan Market
DESCRIPTION:The Lafayette Farmers and Artisans Market provides access to affordable food and consumer education by serving as a premier venue for seasonal\, farm-based products and artisanal creations offered by local producers. \n  \nSupport local farmers and makers every Saturday at Moncus Park \nVendor Applications are Currently Closed
URL:https://parishpopups.com/event/lafayette-farmers-artisan-market/2029-12-01/
LOCATION:Moncus Park\, 2913 Johnston St.\, Lafayette\, LA\, 70510\, United States
ATTACH;FMTTYPE=image/png:https://parishpopups.com/wp-content/uploads/2025/05/Screenshot-2025-05-22-at-10.22.44 AM.png
END:VEVENT
BEGIN:VEVENT
DTSTART;TZID=America/Chicago:20291201T090000
DTEND;TZID=America/Chicago:20291201T130000
DTSTAMP:20260421T174849
CREATED:20250522T152923Z
LAST-MODIFIED:20250703T201859Z
UID:10000550-1890810000-1890824400@parishpopups.com
SUMMARY:Delcambre Seafood & Farmers Market
DESCRIPTION:Located on the water\, the Delcambre Seafood and Farmers Market offers \n\nfresh shrimp off the boats in season\n60+ vendors under a large covered pavilion\nlive music\nkids activities\nbrunch food and drinks\n\nThere are vendors of all kinds selling fresh produce\, homemade canned goods\, arts and crafts. \nVisit their website for vendor information – https://delcambremarket.org/
URL:https://parishpopups.com/event/delcambre-seafood-farmers-market/2029-12-01/
LOCATION:Delcambre Seafood Market\, 605 S Railroad Street (Hwy 330)\, Delcambre\, LA\, 70528\, United States
ATTACH;FMTTYPE=image/png:https://parishpopups.com/wp-content/uploads/2025/05/Screenshot-2025-05-22-at-10.28.13 AM.png
END:VEVENT
BEGIN:VEVENT
DTSTART;TZID=America/Chicago:20291208T080000
DTEND;TZID=America/Chicago:20291208T120000
DTSTAMP:20260421T174849
CREATED:20250522T152326Z
LAST-MODIFIED:20250522T152326Z
UID:10000281-1891411200-1891425600@parishpopups.com
SUMMARY:Lafayette Farmers & Artisan Market
DESCRIPTION:The Lafayette Farmers and Artisans Market provides access to affordable food and consumer education by serving as a premier venue for seasonal\, farm-based products and artisanal creations offered by local producers. \n  \nSupport local farmers and makers every Saturday at Moncus Park \nVendor Applications are Currently Closed
URL:https://parishpopups.com/event/lafayette-farmers-artisan-market/2029-12-08/
LOCATION:Moncus Park\, 2913 Johnston St.\, Lafayette\, LA\, 70510\, United States
ATTACH;FMTTYPE=image/png:https://parishpopups.com/wp-content/uploads/2025/05/Screenshot-2025-05-22-at-10.22.44 AM.png
END:VEVENT
BEGIN:VEVENT
DTSTART;TZID=America/Chicago:20291215T080000
DTEND;TZID=America/Chicago:20291215T120000
DTSTAMP:20260421T174849
CREATED:20250522T152326Z
LAST-MODIFIED:20250522T152326Z
UID:10000282-1892016000-1892030400@parishpopups.com
SUMMARY:Lafayette Farmers & Artisan Market
DESCRIPTION:The Lafayette Farmers and Artisans Market provides access to affordable food and consumer education by serving as a premier venue for seasonal\, farm-based products and artisanal creations offered by local producers. \n  \nSupport local farmers and makers every Saturday at Moncus Park \nVendor Applications are Currently Closed
URL:https://parishpopups.com/event/lafayette-farmers-artisan-market/2029-12-15/
LOCATION:Moncus Park\, 2913 Johnston St.\, Lafayette\, LA\, 70510\, United States
ATTACH;FMTTYPE=image/png:https://parishpopups.com/wp-content/uploads/2025/05/Screenshot-2025-05-22-at-10.22.44 AM.png
END:VEVENT
BEGIN:VEVENT
DTSTART;TZID=America/Chicago:20291222T080000
DTEND;TZID=America/Chicago:20291222T120000
DTSTAMP:20260421T174849
CREATED:20250522T152326Z
LAST-MODIFIED:20250522T152326Z
UID:10000283-1892620800-1892635200@parishpopups.com
SUMMARY:Lafayette Farmers & Artisan Market
DESCRIPTION:The Lafayette Farmers and Artisans Market provides access to affordable food and consumer education by serving as a premier venue for seasonal\, farm-based products and artisanal creations offered by local producers. \n  \nSupport local farmers and makers every Saturday at Moncus Park \nVendor Applications are Currently Closed
URL:https://parishpopups.com/event/lafayette-farmers-artisan-market/2029-12-22/
LOCATION:Moncus Park\, 2913 Johnston St.\, Lafayette\, LA\, 70510\, United States
ATTACH;FMTTYPE=image/png:https://parishpopups.com/wp-content/uploads/2025/05/Screenshot-2025-05-22-at-10.22.44 AM.png
END:VEVENT
BEGIN:VEVENT
DTSTART;TZID=America/Chicago:20291229T080000
DTEND;TZID=America/Chicago:20291229T120000
DTSTAMP:20260421T174849
CREATED:20250522T152326Z
LAST-MODIFIED:20250522T152326Z
UID:10000284-1893225600-1893240000@parishpopups.com
SUMMARY:Lafayette Farmers & Artisan Market
DESCRIPTION:The Lafayette Farmers and Artisans Market provides access to affordable food and consumer education by serving as a premier venue for seasonal\, farm-based products and artisanal creations offered by local producers. \n  \nSupport local farmers and makers every Saturday at Moncus Park \nVendor Applications are Currently Closed
URL:https://parishpopups.com/event/lafayette-farmers-artisan-market/2029-12-29/
LOCATION:Moncus Park\, 2913 Johnston St.\, Lafayette\, LA\, 70510\, United States
ATTACH;FMTTYPE=image/png:https://parishpopups.com/wp-content/uploads/2025/05/Screenshot-2025-05-22-at-10.22.44 AM.png
END:VEVENT
BEGIN:VEVENT
DTSTART;TZID=America/Chicago:20300105T080000
DTEND;TZID=America/Chicago:20300105T120000
DTSTAMP:20260421T174849
CREATED:20250522T152326Z
LAST-MODIFIED:20250522T152326Z
UID:10000285-1893830400-1893844800@parishpopups.com
SUMMARY:Lafayette Farmers & Artisan Market
DESCRIPTION:The Lafayette Farmers and Artisans Market provides access to affordable food and consumer education by serving as a premier venue for seasonal\, farm-based products and artisanal creations offered by local producers. \n  \nSupport local farmers and makers every Saturday at Moncus Park \nVendor Applications are Currently Closed
URL:https://parishpopups.com/event/lafayette-farmers-artisan-market/2030-01-05/
LOCATION:Moncus Park\, 2913 Johnston St.\, Lafayette\, LA\, 70510\, United States
ATTACH;FMTTYPE=image/png:https://parishpopups.com/wp-content/uploads/2025/05/Screenshot-2025-05-22-at-10.22.44 AM.png
END:VEVENT
BEGIN:VEVENT
DTSTART;TZID=America/Chicago:20300105T090000
DTEND;TZID=America/Chicago:20300105T130000
DTSTAMP:20260421T174849
CREATED:20250522T152923Z
LAST-MODIFIED:20250703T201859Z
UID:10000551-1893834000-1893848400@parishpopups.com
SUMMARY:Delcambre Seafood & Farmers Market
DESCRIPTION:Located on the water\, the Delcambre Seafood and Farmers Market offers \n\nfresh shrimp off the boats in season\n60+ vendors under a large covered pavilion\nlive music\nkids activities\nbrunch food and drinks\n\nThere are vendors of all kinds selling fresh produce\, homemade canned goods\, arts and crafts. \nVisit their website for vendor information – https://delcambremarket.org/
URL:https://parishpopups.com/event/delcambre-seafood-farmers-market/2030-01-05/
LOCATION:Delcambre Seafood Market\, 605 S Railroad Street (Hwy 330)\, Delcambre\, LA\, 70528\, United States
ATTACH;FMTTYPE=image/png:https://parishpopups.com/wp-content/uploads/2025/05/Screenshot-2025-05-22-at-10.28.13 AM.png
END:VEVENT
BEGIN:VEVENT
DTSTART;TZID=America/Chicago:20300112T080000
DTEND;TZID=America/Chicago:20300112T120000
DTSTAMP:20260421T174849
CREATED:20250522T152326Z
LAST-MODIFIED:20250522T152326Z
UID:10000286-1894435200-1894449600@parishpopups.com
SUMMARY:Lafayette Farmers & Artisan Market
DESCRIPTION:The Lafayette Farmers and Artisans Market provides access to affordable food and consumer education by serving as a premier venue for seasonal\, farm-based products and artisanal creations offered by local producers. \n  \nSupport local farmers and makers every Saturday at Moncus Park \nVendor Applications are Currently Closed
URL:https://parishpopups.com/event/lafayette-farmers-artisan-market/2030-01-12/
LOCATION:Moncus Park\, 2913 Johnston St.\, Lafayette\, LA\, 70510\, United States
ATTACH;FMTTYPE=image/png:https://parishpopups.com/wp-content/uploads/2025/05/Screenshot-2025-05-22-at-10.22.44 AM.png
END:VEVENT
BEGIN:VEVENT
DTSTART;TZID=America/Chicago:20300119T080000
DTEND;TZID=America/Chicago:20300119T120000
DTSTAMP:20260421T174849
CREATED:20250522T152326Z
LAST-MODIFIED:20250522T152326Z
UID:10000287-1895040000-1895054400@parishpopups.com
SUMMARY:Lafayette Farmers & Artisan Market
DESCRIPTION:The Lafayette Farmers and Artisans Market provides access to affordable food and consumer education by serving as a premier venue for seasonal\, farm-based products and artisanal creations offered by local producers. \n  \nSupport local farmers and makers every Saturday at Moncus Park \nVendor Applications are Currently Closed
URL:https://parishpopups.com/event/lafayette-farmers-artisan-market/2030-01-19/
LOCATION:Moncus Park\, 2913 Johnston St.\, Lafayette\, LA\, 70510\, United States
ATTACH;FMTTYPE=image/png:https://parishpopups.com/wp-content/uploads/2025/05/Screenshot-2025-05-22-at-10.22.44 AM.png
END:VEVENT
BEGIN:VEVENT
DTSTART;TZID=America/Chicago:20300126T080000
DTEND;TZID=America/Chicago:20300126T120000
DTSTAMP:20260421T174849
CREATED:20250522T152326Z
LAST-MODIFIED:20250522T152326Z
UID:10000288-1895644800-1895659200@parishpopups.com
SUMMARY:Lafayette Farmers & Artisan Market
DESCRIPTION:The Lafayette Farmers and Artisans Market provides access to affordable food and consumer education by serving as a premier venue for seasonal\, farm-based products and artisanal creations offered by local producers. \n  \nSupport local farmers and makers every Saturday at Moncus Park \nVendor Applications are Currently Closed
URL:https://parishpopups.com/event/lafayette-farmers-artisan-market/2030-01-26/
LOCATION:Moncus Park\, 2913 Johnston St.\, Lafayette\, LA\, 70510\, United States
ATTACH;FMTTYPE=image/png:https://parishpopups.com/wp-content/uploads/2025/05/Screenshot-2025-05-22-at-10.22.44 AM.png
END:VEVENT
BEGIN:VEVENT
DTSTART;TZID=America/Chicago:20300202T080000
DTEND;TZID=America/Chicago:20300202T120000
DTSTAMP:20260421T174849
CREATED:20250522T152326Z
LAST-MODIFIED:20250522T152326Z
UID:10000289-1896249600-1896264000@parishpopups.com
SUMMARY:Lafayette Farmers & Artisan Market
DESCRIPTION:The Lafayette Farmers and Artisans Market provides access to affordable food and consumer education by serving as a premier venue for seasonal\, farm-based products and artisanal creations offered by local producers. \n  \nSupport local farmers and makers every Saturday at Moncus Park \nVendor Applications are Currently Closed
URL:https://parishpopups.com/event/lafayette-farmers-artisan-market/2030-02-02/
LOCATION:Moncus Park\, 2913 Johnston St.\, Lafayette\, LA\, 70510\, United States
ATTACH;FMTTYPE=image/png:https://parishpopups.com/wp-content/uploads/2025/05/Screenshot-2025-05-22-at-10.22.44 AM.png
END:VEVENT
BEGIN:VEVENT
DTSTART;TZID=America/Chicago:20300202T090000
DTEND;TZID=America/Chicago:20300202T130000
DTSTAMP:20260421T174849
CREATED:20250522T152923Z
LAST-MODIFIED:20250703T201859Z
UID:10000552-1896253200-1896267600@parishpopups.com
SUMMARY:Delcambre Seafood & Farmers Market
DESCRIPTION:Located on the water\, the Delcambre Seafood and Farmers Market offers \n\nfresh shrimp off the boats in season\n60+ vendors under a large covered pavilion\nlive music\nkids activities\nbrunch food and drinks\n\nThere are vendors of all kinds selling fresh produce\, homemade canned goods\, arts and crafts. \nVisit their website for vendor information – https://delcambremarket.org/
URL:https://parishpopups.com/event/delcambre-seafood-farmers-market/2030-02-02/
LOCATION:Delcambre Seafood Market\, 605 S Railroad Street (Hwy 330)\, Delcambre\, LA\, 70528\, United States
ATTACH;FMTTYPE=image/png:https://parishpopups.com/wp-content/uploads/2025/05/Screenshot-2025-05-22-at-10.28.13 AM.png
END:VEVENT
BEGIN:VEVENT
DTSTART;TZID=America/Chicago:20300209T080000
DTEND;TZID=America/Chicago:20300209T120000
DTSTAMP:20260421T174849
CREATED:20250522T152326Z
LAST-MODIFIED:20250522T152326Z
UID:10000290-1896854400-1896868800@parishpopups.com
SUMMARY:Lafayette Farmers & Artisan Market
DESCRIPTION:The Lafayette Farmers and Artisans Market provides access to affordable food and consumer education by serving as a premier venue for seasonal\, farm-based products and artisanal creations offered by local producers. \n  \nSupport local farmers and makers every Saturday at Moncus Park \nVendor Applications are Currently Closed
URL:https://parishpopups.com/event/lafayette-farmers-artisan-market/2030-02-09/
LOCATION:Moncus Park\, 2913 Johnston St.\, Lafayette\, LA\, 70510\, United States
ATTACH;FMTTYPE=image/png:https://parishpopups.com/wp-content/uploads/2025/05/Screenshot-2025-05-22-at-10.22.44 AM.png
END:VEVENT
BEGIN:VEVENT
DTSTART;TZID=America/Chicago:20300216T080000
DTEND;TZID=America/Chicago:20300216T120000
DTSTAMP:20260421T174849
CREATED:20250522T152326Z
LAST-MODIFIED:20250522T152326Z
UID:10000291-1897459200-1897473600@parishpopups.com
SUMMARY:Lafayette Farmers & Artisan Market
DESCRIPTION:The Lafayette Farmers and Artisans Market provides access to affordable food and consumer education by serving as a premier venue for seasonal\, farm-based products and artisanal creations offered by local producers. \n  \nSupport local farmers and makers every Saturday at Moncus Park \nVendor Applications are Currently Closed
URL:https://parishpopups.com/event/lafayette-farmers-artisan-market/2030-02-16/
LOCATION:Moncus Park\, 2913 Johnston St.\, Lafayette\, LA\, 70510\, United States
ATTACH;FMTTYPE=image/png:https://parishpopups.com/wp-content/uploads/2025/05/Screenshot-2025-05-22-at-10.22.44 AM.png
END:VEVENT
BEGIN:VEVENT
DTSTART;TZID=America/Chicago:20300223T080000
DTEND;TZID=America/Chicago:20300223T120000
DTSTAMP:20260421T174849
CREATED:20250522T152326Z
LAST-MODIFIED:20250522T152326Z
UID:10000292-1898064000-1898078400@parishpopups.com
SUMMARY:Lafayette Farmers & Artisan Market
DESCRIPTION:The Lafayette Farmers and Artisans Market provides access to affordable food and consumer education by serving as a premier venue for seasonal\, farm-based products and artisanal creations offered by local producers. \n  \nSupport local farmers and makers every Saturday at Moncus Park \nVendor Applications are Currently Closed
URL:https://parishpopups.com/event/lafayette-farmers-artisan-market/2030-02-23/
LOCATION:Moncus Park\, 2913 Johnston St.\, Lafayette\, LA\, 70510\, United States
ATTACH;FMTTYPE=image/png:https://parishpopups.com/wp-content/uploads/2025/05/Screenshot-2025-05-22-at-10.22.44 AM.png
END:VEVENT
END:VCALENDAR