BEGIN:VCALENDAR
VERSION:2.0
PRODID:-//Parish Pop-Ups - ECPv6.13.2.1//NONSGML v1.0//EN
CALSCALE:GREGORIAN
METHOD:PUBLISH
X-WR-CALNAME:Parish Pop-Ups
X-ORIGINAL-URL:https://parishpopups.com
X-WR-CALDESC:Events for Parish Pop-Ups
REFRESH-INTERVAL;VALUE=DURATION:PT1H
X-Robots-Tag:noindex
X-PUBLISHED-TTL:PT1H
BEGIN:VTIMEZONE
TZID:America/Chicago
BEGIN:DAYLIGHT
TZOFFSETFROM:-0600
TZOFFSETTO:-0500
TZNAME:CDT
DTSTART:20300310T080000
END:DAYLIGHT
BEGIN:STANDARD
TZOFFSETFROM:-0500
TZOFFSETTO:-0600
TZNAME:CST
DTSTART:20301103T070000
END:STANDARD
END:VTIMEZONE
BEGIN:VEVENT
DTSTART;TZID=America/Chicago:20300330T080000
DTEND;TZID=America/Chicago:20300330T120000
DTSTAMP:20260421T145523
CREATED:20250522T152326Z
LAST-MODIFIED:20250522T152326Z
UID:10000297-1901088000-1901102400@parishpopups.com
SUMMARY:Lafayette Farmers & Artisan Market
DESCRIPTION:The Lafayette Farmers and Artisans Market provides access to affordable food and consumer education by serving as a premier venue for seasonal\, farm-based products and artisanal creations offered by local producers. \n  \nSupport local farmers and makers every Saturday at Moncus Park \nVendor Applications are Currently Closed
URL:https://parishpopups.com/event/lafayette-farmers-artisan-market/2030-03-30/
LOCATION:Moncus Park\, 2913 Johnston St.\, Lafayette\, LA\, 70510\, United States
ATTACH;FMTTYPE=image/png:https://parishpopups.com/wp-content/uploads/2025/05/Screenshot-2025-05-22-at-10.22.44 AM.png
END:VEVENT
BEGIN:VEVENT
DTSTART;TZID=America/Chicago:20300406T080000
DTEND;TZID=America/Chicago:20300406T120000
DTSTAMP:20260421T145523
CREATED:20250522T152326Z
LAST-MODIFIED:20250522T152326Z
UID:10000298-1901692800-1901707200@parishpopups.com
SUMMARY:Lafayette Farmers & Artisan Market
DESCRIPTION:The Lafayette Farmers and Artisans Market provides access to affordable food and consumer education by serving as a premier venue for seasonal\, farm-based products and artisanal creations offered by local producers. \n  \nSupport local farmers and makers every Saturday at Moncus Park \nVendor Applications are Currently Closed
URL:https://parishpopups.com/event/lafayette-farmers-artisan-market/2030-04-06/
LOCATION:Moncus Park\, 2913 Johnston St.\, Lafayette\, LA\, 70510\, United States
ATTACH;FMTTYPE=image/png:https://parishpopups.com/wp-content/uploads/2025/05/Screenshot-2025-05-22-at-10.22.44 AM.png
END:VEVENT
BEGIN:VEVENT
DTSTART;TZID=America/Chicago:20300406T090000
DTEND;TZID=America/Chicago:20300406T130000
DTSTAMP:20260421T145523
CREATED:20250522T152923Z
LAST-MODIFIED:20250703T201859Z
UID:10000554-1901696400-1901710800@parishpopups.com
SUMMARY:Delcambre Seafood & Farmers Market
DESCRIPTION:Located on the water\, the Delcambre Seafood and Farmers Market offers \n\nfresh shrimp off the boats in season\n60+ vendors under a large covered pavilion\nlive music\nkids activities\nbrunch food and drinks\n\nThere are vendors of all kinds selling fresh produce\, homemade canned goods\, arts and crafts. \nVisit their website for vendor information – https://delcambremarket.org/
URL:https://parishpopups.com/event/delcambre-seafood-farmers-market/2030-04-06/
LOCATION:Delcambre Seafood Market\, 605 S Railroad Street (Hwy 330)\, Delcambre\, LA\, 70528\, United States
ATTACH;FMTTYPE=image/png:https://parishpopups.com/wp-content/uploads/2025/05/Screenshot-2025-05-22-at-10.28.13 AM.png
END:VEVENT
BEGIN:VEVENT
DTSTART;TZID=America/Chicago:20300413T080000
DTEND;TZID=America/Chicago:20300413T120000
DTSTAMP:20260421T145523
CREATED:20250522T152326Z
LAST-MODIFIED:20250522T152326Z
UID:10000299-1902297600-1902312000@parishpopups.com
SUMMARY:Lafayette Farmers & Artisan Market
DESCRIPTION:The Lafayette Farmers and Artisans Market provides access to affordable food and consumer education by serving as a premier venue for seasonal\, farm-based products and artisanal creations offered by local producers. \n  \nSupport local farmers and makers every Saturday at Moncus Park \nVendor Applications are Currently Closed
URL:https://parishpopups.com/event/lafayette-farmers-artisan-market/2030-04-13/
LOCATION:Moncus Park\, 2913 Johnston St.\, Lafayette\, LA\, 70510\, United States
ATTACH;FMTTYPE=image/png:https://parishpopups.com/wp-content/uploads/2025/05/Screenshot-2025-05-22-at-10.22.44 AM.png
END:VEVENT
BEGIN:VEVENT
DTSTART;TZID=America/Chicago:20300420T080000
DTEND;TZID=America/Chicago:20300420T120000
DTSTAMP:20260421T145523
CREATED:20250522T152326Z
LAST-MODIFIED:20250522T152326Z
UID:10000300-1902902400-1902916800@parishpopups.com
SUMMARY:Lafayette Farmers & Artisan Market
DESCRIPTION:The Lafayette Farmers and Artisans Market provides access to affordable food and consumer education by serving as a premier venue for seasonal\, farm-based products and artisanal creations offered by local producers. \n  \nSupport local farmers and makers every Saturday at Moncus Park \nVendor Applications are Currently Closed
URL:https://parishpopups.com/event/lafayette-farmers-artisan-market/2030-04-20/
LOCATION:Moncus Park\, 2913 Johnston St.\, Lafayette\, LA\, 70510\, United States
ATTACH;FMTTYPE=image/png:https://parishpopups.com/wp-content/uploads/2025/05/Screenshot-2025-05-22-at-10.22.44 AM.png
END:VEVENT
BEGIN:VEVENT
DTSTART;TZID=America/Chicago:20300427T080000
DTEND;TZID=America/Chicago:20300427T120000
DTSTAMP:20260421T145523
CREATED:20250522T152326Z
LAST-MODIFIED:20250522T152326Z
UID:10000301-1903507200-1903521600@parishpopups.com
SUMMARY:Lafayette Farmers & Artisan Market
DESCRIPTION:The Lafayette Farmers and Artisans Market provides access to affordable food and consumer education by serving as a premier venue for seasonal\, farm-based products and artisanal creations offered by local producers. \n  \nSupport local farmers and makers every Saturday at Moncus Park \nVendor Applications are Currently Closed
URL:https://parishpopups.com/event/lafayette-farmers-artisan-market/2030-04-27/
LOCATION:Moncus Park\, 2913 Johnston St.\, Lafayette\, LA\, 70510\, United States
ATTACH;FMTTYPE=image/png:https://parishpopups.com/wp-content/uploads/2025/05/Screenshot-2025-05-22-at-10.22.44 AM.png
END:VEVENT
BEGIN:VEVENT
DTSTART;TZID=America/Chicago:20300504T080000
DTEND;TZID=America/Chicago:20300504T120000
DTSTAMP:20260421T145523
CREATED:20250522T152326Z
LAST-MODIFIED:20250522T152326Z
UID:10000302-1904112000-1904126400@parishpopups.com
SUMMARY:Lafayette Farmers & Artisan Market
DESCRIPTION:The Lafayette Farmers and Artisans Market provides access to affordable food and consumer education by serving as a premier venue for seasonal\, farm-based products and artisanal creations offered by local producers. \n  \nSupport local farmers and makers every Saturday at Moncus Park \nVendor Applications are Currently Closed
URL:https://parishpopups.com/event/lafayette-farmers-artisan-market/2030-05-04/
LOCATION:Moncus Park\, 2913 Johnston St.\, Lafayette\, LA\, 70510\, United States
ATTACH;FMTTYPE=image/png:https://parishpopups.com/wp-content/uploads/2025/05/Screenshot-2025-05-22-at-10.22.44 AM.png
END:VEVENT
BEGIN:VEVENT
DTSTART;TZID=America/Chicago:20300504T090000
DTEND;TZID=America/Chicago:20300504T130000
DTSTAMP:20260421T145523
CREATED:20250522T152923Z
LAST-MODIFIED:20250703T201859Z
UID:10000555-1904115600-1904130000@parishpopups.com
SUMMARY:Delcambre Seafood & Farmers Market
DESCRIPTION:Located on the water\, the Delcambre Seafood and Farmers Market offers \n\nfresh shrimp off the boats in season\n60+ vendors under a large covered pavilion\nlive music\nkids activities\nbrunch food and drinks\n\nThere are vendors of all kinds selling fresh produce\, homemade canned goods\, arts and crafts. \nVisit their website for vendor information – https://delcambremarket.org/
URL:https://parishpopups.com/event/delcambre-seafood-farmers-market/2030-05-04/
LOCATION:Delcambre Seafood Market\, 605 S Railroad Street (Hwy 330)\, Delcambre\, LA\, 70528\, United States
ATTACH;FMTTYPE=image/png:https://parishpopups.com/wp-content/uploads/2025/05/Screenshot-2025-05-22-at-10.28.13 AM.png
END:VEVENT
BEGIN:VEVENT
DTSTART;TZID=America/Chicago:20300511T080000
DTEND;TZID=America/Chicago:20300511T120000
DTSTAMP:20260421T145523
CREATED:20250522T152326Z
LAST-MODIFIED:20250522T152326Z
UID:10000303-1904716800-1904731200@parishpopups.com
SUMMARY:Lafayette Farmers & Artisan Market
DESCRIPTION:The Lafayette Farmers and Artisans Market provides access to affordable food and consumer education by serving as a premier venue for seasonal\, farm-based products and artisanal creations offered by local producers. \n  \nSupport local farmers and makers every Saturday at Moncus Park \nVendor Applications are Currently Closed
URL:https://parishpopups.com/event/lafayette-farmers-artisan-market/2030-05-11/
LOCATION:Moncus Park\, 2913 Johnston St.\, Lafayette\, LA\, 70510\, United States
ATTACH;FMTTYPE=image/png:https://parishpopups.com/wp-content/uploads/2025/05/Screenshot-2025-05-22-at-10.22.44 AM.png
END:VEVENT
BEGIN:VEVENT
DTSTART;TZID=America/Chicago:20300518T080000
DTEND;TZID=America/Chicago:20300518T120000
DTSTAMP:20260421T145523
CREATED:20250522T152326Z
LAST-MODIFIED:20250522T152326Z
UID:10000304-1905321600-1905336000@parishpopups.com
SUMMARY:Lafayette Farmers & Artisan Market
DESCRIPTION:The Lafayette Farmers and Artisans Market provides access to affordable food and consumer education by serving as a premier venue for seasonal\, farm-based products and artisanal creations offered by local producers. \n  \nSupport local farmers and makers every Saturday at Moncus Park \nVendor Applications are Currently Closed
URL:https://parishpopups.com/event/lafayette-farmers-artisan-market/2030-05-18/
LOCATION:Moncus Park\, 2913 Johnston St.\, Lafayette\, LA\, 70510\, United States
ATTACH;FMTTYPE=image/png:https://parishpopups.com/wp-content/uploads/2025/05/Screenshot-2025-05-22-at-10.22.44 AM.png
END:VEVENT
BEGIN:VEVENT
DTSTART;TZID=America/Chicago:20300525T080000
DTEND;TZID=America/Chicago:20300525T120000
DTSTAMP:20260421T145523
CREATED:20250522T152326Z
LAST-MODIFIED:20250522T152326Z
UID:10000365-1905926400-1905940800@parishpopups.com
SUMMARY:Lafayette Farmers & Artisan Market
DESCRIPTION:The Lafayette Farmers and Artisans Market provides access to affordable food and consumer education by serving as a premier venue for seasonal\, farm-based products and artisanal creations offered by local producers. \n  \nSupport local farmers and makers every Saturday at Moncus Park \nVendor Applications are Currently Closed
URL:https://parishpopups.com/event/lafayette-farmers-artisan-market/2030-05-25/
LOCATION:Moncus Park\, 2913 Johnston St.\, Lafayette\, LA\, 70510\, United States
ATTACH;FMTTYPE=image/png:https://parishpopups.com/wp-content/uploads/2025/05/Screenshot-2025-05-22-at-10.22.44 AM.png
END:VEVENT
BEGIN:VEVENT
DTSTART;TZID=America/Chicago:20300601T080000
DTEND;TZID=America/Chicago:20300601T120000
DTSTAMP:20260421T145523
CREATED:20250522T152326Z
LAST-MODIFIED:20250522T152326Z
UID:10000373-1906531200-1906545600@parishpopups.com
SUMMARY:Lafayette Farmers & Artisan Market
DESCRIPTION:The Lafayette Farmers and Artisans Market provides access to affordable food and consumer education by serving as a premier venue for seasonal\, farm-based products and artisanal creations offered by local producers. \n  \nSupport local farmers and makers every Saturday at Moncus Park \nVendor Applications are Currently Closed
URL:https://parishpopups.com/event/lafayette-farmers-artisan-market/2030-06-01/
LOCATION:Moncus Park\, 2913 Johnston St.\, Lafayette\, LA\, 70510\, United States
ATTACH;FMTTYPE=image/png:https://parishpopups.com/wp-content/uploads/2025/05/Screenshot-2025-05-22-at-10.22.44 AM.png
END:VEVENT
BEGIN:VEVENT
DTSTART;TZID=America/Chicago:20300601T090000
DTEND;TZID=America/Chicago:20300601T130000
DTSTAMP:20260421T145523
CREATED:20250522T152923Z
LAST-MODIFIED:20250703T201859Z
UID:10000556-1906534800-1906549200@parishpopups.com
SUMMARY:Delcambre Seafood & Farmers Market
DESCRIPTION:Located on the water\, the Delcambre Seafood and Farmers Market offers \n\nfresh shrimp off the boats in season\n60+ vendors under a large covered pavilion\nlive music\nkids activities\nbrunch food and drinks\n\nThere are vendors of all kinds selling fresh produce\, homemade canned goods\, arts and crafts. \nVisit their website for vendor information – https://delcambremarket.org/
URL:https://parishpopups.com/event/delcambre-seafood-farmers-market/2030-06-01/
LOCATION:Delcambre Seafood Market\, 605 S Railroad Street (Hwy 330)\, Delcambre\, LA\, 70528\, United States
ATTACH;FMTTYPE=image/png:https://parishpopups.com/wp-content/uploads/2025/05/Screenshot-2025-05-22-at-10.28.13 AM.png
END:VEVENT
BEGIN:VEVENT
DTSTART;TZID=America/Chicago:20300608T080000
DTEND;TZID=America/Chicago:20300608T120000
DTSTAMP:20260421T145523
CREATED:20250522T152326Z
LAST-MODIFIED:20250522T152326Z
UID:10000375-1907136000-1907150400@parishpopups.com
SUMMARY:Lafayette Farmers & Artisan Market
DESCRIPTION:The Lafayette Farmers and Artisans Market provides access to affordable food and consumer education by serving as a premier venue for seasonal\, farm-based products and artisanal creations offered by local producers. \n  \nSupport local farmers and makers every Saturday at Moncus Park \nVendor Applications are Currently Closed
URL:https://parishpopups.com/event/lafayette-farmers-artisan-market/2030-06-08/
LOCATION:Moncus Park\, 2913 Johnston St.\, Lafayette\, LA\, 70510\, United States
ATTACH;FMTTYPE=image/png:https://parishpopups.com/wp-content/uploads/2025/05/Screenshot-2025-05-22-at-10.22.44 AM.png
END:VEVENT
BEGIN:VEVENT
DTSTART;TZID=America/Chicago:20300615T080000
DTEND;TZID=America/Chicago:20300615T120000
DTSTAMP:20260421T145523
CREATED:20250522T152326Z
LAST-MODIFIED:20250522T152326Z
UID:10000377-1907740800-1907755200@parishpopups.com
SUMMARY:Lafayette Farmers & Artisan Market
DESCRIPTION:The Lafayette Farmers and Artisans Market provides access to affordable food and consumer education by serving as a premier venue for seasonal\, farm-based products and artisanal creations offered by local producers. \n  \nSupport local farmers and makers every Saturday at Moncus Park \nVendor Applications are Currently Closed
URL:https://parishpopups.com/event/lafayette-farmers-artisan-market/2030-06-15/
LOCATION:Moncus Park\, 2913 Johnston St.\, Lafayette\, LA\, 70510\, United States
ATTACH;FMTTYPE=image/png:https://parishpopups.com/wp-content/uploads/2025/05/Screenshot-2025-05-22-at-10.22.44 AM.png
END:VEVENT
BEGIN:VEVENT
DTSTART;TZID=America/Chicago:20300622T080000
DTEND;TZID=America/Chicago:20300622T120000
DTSTAMP:20260421T145523
CREATED:20250522T152326Z
LAST-MODIFIED:20250522T152326Z
UID:10000378-1908345600-1908360000@parishpopups.com
SUMMARY:Lafayette Farmers & Artisan Market
DESCRIPTION:The Lafayette Farmers and Artisans Market provides access to affordable food and consumer education by serving as a premier venue for seasonal\, farm-based products and artisanal creations offered by local producers. \n  \nSupport local farmers and makers every Saturday at Moncus Park \nVendor Applications are Currently Closed
URL:https://parishpopups.com/event/lafayette-farmers-artisan-market/2030-06-22/
LOCATION:Moncus Park\, 2913 Johnston St.\, Lafayette\, LA\, 70510\, United States
ATTACH;FMTTYPE=image/png:https://parishpopups.com/wp-content/uploads/2025/05/Screenshot-2025-05-22-at-10.22.44 AM.png
END:VEVENT
BEGIN:VEVENT
DTSTART;TZID=America/Chicago:20300629T080000
DTEND;TZID=America/Chicago:20300629T120000
DTSTAMP:20260421T145523
CREATED:20250522T152326Z
LAST-MODIFIED:20250522T152326Z
UID:10000438-1908950400-1908964800@parishpopups.com
SUMMARY:Lafayette Farmers & Artisan Market
DESCRIPTION:The Lafayette Farmers and Artisans Market provides access to affordable food and consumer education by serving as a premier venue for seasonal\, farm-based products and artisanal creations offered by local producers. \n  \nSupport local farmers and makers every Saturday at Moncus Park \nVendor Applications are Currently Closed
URL:https://parishpopups.com/event/lafayette-farmers-artisan-market/2030-06-29/
LOCATION:Moncus Park\, 2913 Johnston St.\, Lafayette\, LA\, 70510\, United States
ATTACH;FMTTYPE=image/png:https://parishpopups.com/wp-content/uploads/2025/05/Screenshot-2025-05-22-at-10.22.44 AM.png
END:VEVENT
BEGIN:VEVENT
DTSTART;TZID=America/Chicago:20300706T080000
DTEND;TZID=America/Chicago:20300706T120000
DTSTAMP:20260421T145523
CREATED:20250522T152326Z
LAST-MODIFIED:20250522T152326Z
UID:10000557-1909555200-1909569600@parishpopups.com
SUMMARY:Lafayette Farmers & Artisan Market
DESCRIPTION:The Lafayette Farmers and Artisans Market provides access to affordable food and consumer education by serving as a premier venue for seasonal\, farm-based products and artisanal creations offered by local producers. \n  \nSupport local farmers and makers every Saturday at Moncus Park \nVendor Applications are Currently Closed
URL:https://parishpopups.com/event/lafayette-farmers-artisan-market/2030-07-06/
LOCATION:Moncus Park\, 2913 Johnston St.\, Lafayette\, LA\, 70510\, United States
ATTACH;FMTTYPE=image/png:https://parishpopups.com/wp-content/uploads/2025/05/Screenshot-2025-05-22-at-10.22.44 AM.png
END:VEVENT
BEGIN:VEVENT
DTSTART;TZID=America/Chicago:20300706T090000
DTEND;TZID=America/Chicago:20300706T130000
DTSTAMP:20260421T145523
CREATED:20250522T152923Z
LAST-MODIFIED:20250703T201859Z
UID:10000562-1909558800-1909573200@parishpopups.com
SUMMARY:Delcambre Seafood & Farmers Market
DESCRIPTION:Located on the water\, the Delcambre Seafood and Farmers Market offers \n\nfresh shrimp off the boats in season\n60+ vendors under a large covered pavilion\nlive music\nkids activities\nbrunch food and drinks\n\nThere are vendors of all kinds selling fresh produce\, homemade canned goods\, arts and crafts. \nVisit their website for vendor information – https://delcambremarket.org/
URL:https://parishpopups.com/event/delcambre-seafood-farmers-market/2030-07-06/
LOCATION:Delcambre Seafood Market\, 605 S Railroad Street (Hwy 330)\, Delcambre\, LA\, 70528\, United States
ATTACH;FMTTYPE=image/png:https://parishpopups.com/wp-content/uploads/2025/05/Screenshot-2025-05-22-at-10.28.13 AM.png
END:VEVENT
BEGIN:VEVENT
DTSTART;TZID=America/Chicago:20300713T080000
DTEND;TZID=America/Chicago:20300713T120000
DTSTAMP:20260421T145523
CREATED:20250522T152326Z
LAST-MODIFIED:20250522T152326Z
UID:10000558-1910160000-1910174400@parishpopups.com
SUMMARY:Lafayette Farmers & Artisan Market
DESCRIPTION:The Lafayette Farmers and Artisans Market provides access to affordable food and consumer education by serving as a premier venue for seasonal\, farm-based products and artisanal creations offered by local producers. \n  \nSupport local farmers and makers every Saturday at Moncus Park \nVendor Applications are Currently Closed
URL:https://parishpopups.com/event/lafayette-farmers-artisan-market/2030-07-13/
LOCATION:Moncus Park\, 2913 Johnston St.\, Lafayette\, LA\, 70510\, United States
ATTACH;FMTTYPE=image/png:https://parishpopups.com/wp-content/uploads/2025/05/Screenshot-2025-05-22-at-10.22.44 AM.png
END:VEVENT
BEGIN:VEVENT
DTSTART;TZID=America/Chicago:20300720T080000
DTEND;TZID=America/Chicago:20300720T120000
DTSTAMP:20260421T145523
CREATED:20250522T152326Z
LAST-MODIFIED:20250522T152326Z
UID:10000559-1910764800-1910779200@parishpopups.com
SUMMARY:Lafayette Farmers & Artisan Market
DESCRIPTION:The Lafayette Farmers and Artisans Market provides access to affordable food and consumer education by serving as a premier venue for seasonal\, farm-based products and artisanal creations offered by local producers. \n  \nSupport local farmers and makers every Saturday at Moncus Park \nVendor Applications are Currently Closed
URL:https://parishpopups.com/event/lafayette-farmers-artisan-market/2030-07-20/
LOCATION:Moncus Park\, 2913 Johnston St.\, Lafayette\, LA\, 70510\, United States
ATTACH;FMTTYPE=image/png:https://parishpopups.com/wp-content/uploads/2025/05/Screenshot-2025-05-22-at-10.22.44 AM.png
END:VEVENT
BEGIN:VEVENT
DTSTART;TZID=America/Chicago:20300727T080000
DTEND;TZID=America/Chicago:20300727T120000
DTSTAMP:20260421T145523
CREATED:20250522T152326Z
LAST-MODIFIED:20250522T152326Z
UID:10000560-1911369600-1911384000@parishpopups.com
SUMMARY:Lafayette Farmers & Artisan Market
DESCRIPTION:The Lafayette Farmers and Artisans Market provides access to affordable food and consumer education by serving as a premier venue for seasonal\, farm-based products and artisanal creations offered by local producers. \n  \nSupport local farmers and makers every Saturday at Moncus Park \nVendor Applications are Currently Closed
URL:https://parishpopups.com/event/lafayette-farmers-artisan-market/2030-07-27/
LOCATION:Moncus Park\, 2913 Johnston St.\, Lafayette\, LA\, 70510\, United States
ATTACH;FMTTYPE=image/png:https://parishpopups.com/wp-content/uploads/2025/05/Screenshot-2025-05-22-at-10.22.44 AM.png
END:VEVENT
BEGIN:VEVENT
DTSTART;TZID=America/Chicago:20300803T080000
DTEND;TZID=America/Chicago:20300803T120000
DTSTAMP:20260421T145523
CREATED:20250522T152326Z
LAST-MODIFIED:20250522T152326Z
UID:10000561-1911974400-1911988800@parishpopups.com
SUMMARY:Lafayette Farmers & Artisan Market
DESCRIPTION:The Lafayette Farmers and Artisans Market provides access to affordable food and consumer education by serving as a premier venue for seasonal\, farm-based products and artisanal creations offered by local producers. \n  \nSupport local farmers and makers every Saturday at Moncus Park \nVendor Applications are Currently Closed
URL:https://parishpopups.com/event/lafayette-farmers-artisan-market/2030-08-03/
LOCATION:Moncus Park\, 2913 Johnston St.\, Lafayette\, LA\, 70510\, United States
ATTACH;FMTTYPE=image/png:https://parishpopups.com/wp-content/uploads/2025/05/Screenshot-2025-05-22-at-10.22.44 AM.png
END:VEVENT
BEGIN:VEVENT
DTSTART;TZID=America/Chicago:20300803T090000
DTEND;TZID=America/Chicago:20300803T130000
DTSTAMP:20260421T145523
CREATED:20250522T152923Z
LAST-MODIFIED:20250703T201859Z
UID:10000563-1911978000-1911992400@parishpopups.com
SUMMARY:Delcambre Seafood & Farmers Market
DESCRIPTION:Located on the water\, the Delcambre Seafood and Farmers Market offers \n\nfresh shrimp off the boats in season\n60+ vendors under a large covered pavilion\nlive music\nkids activities\nbrunch food and drinks\n\nThere are vendors of all kinds selling fresh produce\, homemade canned goods\, arts and crafts. \nVisit their website for vendor information – https://delcambremarket.org/
URL:https://parishpopups.com/event/delcambre-seafood-farmers-market/2030-08-03/
LOCATION:Delcambre Seafood Market\, 605 S Railroad Street (Hwy 330)\, Delcambre\, LA\, 70528\, United States
ATTACH;FMTTYPE=image/png:https://parishpopups.com/wp-content/uploads/2025/05/Screenshot-2025-05-22-at-10.28.13 AM.png
END:VEVENT
BEGIN:VEVENT
DTSTART;TZID=America/Chicago:20300810T080000
DTEND;TZID=America/Chicago:20300810T120000
DTSTAMP:20260421T145523
CREATED:20250522T152326Z
LAST-MODIFIED:20250522T152326Z
UID:10000564-1912579200-1912593600@parishpopups.com
SUMMARY:Lafayette Farmers & Artisan Market
DESCRIPTION:The Lafayette Farmers and Artisans Market provides access to affordable food and consumer education by serving as a premier venue for seasonal\, farm-based products and artisanal creations offered by local producers. \n  \nSupport local farmers and makers every Saturday at Moncus Park \nVendor Applications are Currently Closed
URL:https://parishpopups.com/event/lafayette-farmers-artisan-market/2030-08-10/
LOCATION:Moncus Park\, 2913 Johnston St.\, Lafayette\, LA\, 70510\, United States
ATTACH;FMTTYPE=image/png:https://parishpopups.com/wp-content/uploads/2025/05/Screenshot-2025-05-22-at-10.22.44 AM.png
END:VEVENT
BEGIN:VEVENT
DTSTART;TZID=America/Chicago:20300817T080000
DTEND;TZID=America/Chicago:20300817T120000
DTSTAMP:20260421T145523
CREATED:20250522T152326Z
LAST-MODIFIED:20250522T152326Z
UID:10000565-1913184000-1913198400@parishpopups.com
SUMMARY:Lafayette Farmers & Artisan Market
DESCRIPTION:The Lafayette Farmers and Artisans Market provides access to affordable food and consumer education by serving as a premier venue for seasonal\, farm-based products and artisanal creations offered by local producers. \n  \nSupport local farmers and makers every Saturday at Moncus Park \nVendor Applications are Currently Closed
URL:https://parishpopups.com/event/lafayette-farmers-artisan-market/2030-08-17/
LOCATION:Moncus Park\, 2913 Johnston St.\, Lafayette\, LA\, 70510\, United States
ATTACH;FMTTYPE=image/png:https://parishpopups.com/wp-content/uploads/2025/05/Screenshot-2025-05-22-at-10.22.44 AM.png
END:VEVENT
BEGIN:VEVENT
DTSTART;TZID=America/Chicago:20300824T080000
DTEND;TZID=America/Chicago:20300824T120000
DTSTAMP:20260421T145523
CREATED:20250522T152326Z
LAST-MODIFIED:20250522T152326Z
UID:10000566-1913788800-1913803200@parishpopups.com
SUMMARY:Lafayette Farmers & Artisan Market
DESCRIPTION:The Lafayette Farmers and Artisans Market provides access to affordable food and consumer education by serving as a premier venue for seasonal\, farm-based products and artisanal creations offered by local producers. \n  \nSupport local farmers and makers every Saturday at Moncus Park \nVendor Applications are Currently Closed
URL:https://parishpopups.com/event/lafayette-farmers-artisan-market/2030-08-24/
LOCATION:Moncus Park\, 2913 Johnston St.\, Lafayette\, LA\, 70510\, United States
ATTACH;FMTTYPE=image/png:https://parishpopups.com/wp-content/uploads/2025/05/Screenshot-2025-05-22-at-10.22.44 AM.png
END:VEVENT
BEGIN:VEVENT
DTSTART;TZID=America/Chicago:20300831T080000
DTEND;TZID=America/Chicago:20300831T120000
DTSTAMP:20260421T145523
CREATED:20250522T152326Z
LAST-MODIFIED:20250522T152326Z
UID:10000567-1914393600-1914408000@parishpopups.com
SUMMARY:Lafayette Farmers & Artisan Market
DESCRIPTION:The Lafayette Farmers and Artisans Market provides access to affordable food and consumer education by serving as a premier venue for seasonal\, farm-based products and artisanal creations offered by local producers. \n  \nSupport local farmers and makers every Saturday at Moncus Park \nVendor Applications are Currently Closed
URL:https://parishpopups.com/event/lafayette-farmers-artisan-market/2030-08-31/
LOCATION:Moncus Park\, 2913 Johnston St.\, Lafayette\, LA\, 70510\, United States
ATTACH;FMTTYPE=image/png:https://parishpopups.com/wp-content/uploads/2025/05/Screenshot-2025-05-22-at-10.22.44 AM.png
END:VEVENT
BEGIN:VEVENT
DTSTART;TZID=America/Chicago:20300907T080000
DTEND;TZID=America/Chicago:20300907T120000
DTSTAMP:20260421T145523
CREATED:20250522T152326Z
LAST-MODIFIED:20250522T152326Z
UID:10000568-1914998400-1915012800@parishpopups.com
SUMMARY:Lafayette Farmers & Artisan Market
DESCRIPTION:The Lafayette Farmers and Artisans Market provides access to affordable food and consumer education by serving as a premier venue for seasonal\, farm-based products and artisanal creations offered by local producers. \n  \nSupport local farmers and makers every Saturday at Moncus Park \nVendor Applications are Currently Closed
URL:https://parishpopups.com/event/lafayette-farmers-artisan-market/2030-09-07/
LOCATION:Moncus Park\, 2913 Johnston St.\, Lafayette\, LA\, 70510\, United States
ATTACH;FMTTYPE=image/png:https://parishpopups.com/wp-content/uploads/2025/05/Screenshot-2025-05-22-at-10.22.44 AM.png
END:VEVENT
BEGIN:VEVENT
DTSTART;TZID=America/Chicago:20300907T090000
DTEND;TZID=America/Chicago:20300907T130000
DTSTAMP:20260421T145523
CREATED:20250522T152923Z
LAST-MODIFIED:20250703T201859Z
UID:10000569-1915002000-1915016400@parishpopups.com
SUMMARY:Delcambre Seafood & Farmers Market
DESCRIPTION:Located on the water\, the Delcambre Seafood and Farmers Market offers \n\nfresh shrimp off the boats in season\n60+ vendors under a large covered pavilion\nlive music\nkids activities\nbrunch food and drinks\n\nThere are vendors of all kinds selling fresh produce\, homemade canned goods\, arts and crafts. \nVisit their website for vendor information – https://delcambremarket.org/
URL:https://parishpopups.com/event/delcambre-seafood-farmers-market/2030-09-07/
LOCATION:Delcambre Seafood Market\, 605 S Railroad Street (Hwy 330)\, Delcambre\, LA\, 70528\, United States
ATTACH;FMTTYPE=image/png:https://parishpopups.com/wp-content/uploads/2025/05/Screenshot-2025-05-22-at-10.28.13 AM.png
END:VEVENT
END:VCALENDAR