BEGIN:VCALENDAR
VERSION:2.0
PRODID:-//Parish Pop-Ups - ECPv6.13.2.1//NONSGML v1.0//EN
CALSCALE:GREGORIAN
METHOD:PUBLISH
X-ORIGINAL-URL:https://parishpopups.com
X-WR-CALDESC:Events for Parish Pop-Ups
REFRESH-INTERVAL;VALUE=DURATION:PT1H
X-Robots-Tag:noindex
X-PUBLISHED-TTL:PT1H
BEGIN:VTIMEZONE
TZID:America/Chicago
BEGIN:DAYLIGHT
TZOFFSETFROM:-0600
TZOFFSETTO:-0500
TZNAME:CDT
DTSTART:20270314T080000
END:DAYLIGHT
BEGIN:STANDARD
TZOFFSETFROM:-0500
TZOFFSETTO:-0600
TZNAME:CST
DTSTART:20271107T070000
END:STANDARD
END:VTIMEZONE
BEGIN:VEVENT
DTSTART;TZID=America/Chicago:20270605T090000
DTEND;TZID=America/Chicago:20270605T130000
DTSTAMP:20260420T155818
CREATED:20250522T152923Z
LAST-MODIFIED:20250703T201859Z
UID:10000520-1812186000-1812200400@parishpopups.com
SUMMARY:Delcambre Seafood & Farmers Market
DESCRIPTION:Located on the water\, the Delcambre Seafood and Farmers Market offers \n\nfresh shrimp off the boats in season\n60+ vendors under a large covered pavilion\nlive music\nkids activities\nbrunch food and drinks\n\nThere are vendors of all kinds selling fresh produce\, homemade canned goods\, arts and crafts. \nVisit their website for vendor information – https://delcambremarket.org/
URL:https://parishpopups.com/event/delcambre-seafood-farmers-market/2027-06-05/
LOCATION:Delcambre Seafood Market\, 605 S Railroad Street (Hwy 330)\, Delcambre\, LA\, 70528\, United States
ATTACH;FMTTYPE=image/png:https://parishpopups.com/wp-content/uploads/2025/05/Screenshot-2025-05-22-at-10.28.13 AM.png
END:VEVENT
BEGIN:VEVENT
DTSTART;TZID=America/Chicago:20270612T080000
DTEND;TZID=America/Chicago:20270612T120000
DTSTAMP:20260420T155818
CREATED:20250522T152326Z
LAST-MODIFIED:20250522T152326Z
UID:10000151-1812787200-1812801600@parishpopups.com
SUMMARY:Lafayette Farmers & Artisan Market
DESCRIPTION:The Lafayette Farmers and Artisans Market provides access to affordable food and consumer education by serving as a premier venue for seasonal\, farm-based products and artisanal creations offered by local producers. \n  \nSupport local farmers and makers every Saturday at Moncus Park \nVendor Applications are Currently Closed
URL:https://parishpopups.com/event/lafayette-farmers-artisan-market/2027-06-12/
LOCATION:Moncus Park\, 2913 Johnston St.\, Lafayette\, LA\, 70510\, United States
ATTACH;FMTTYPE=image/png:https://parishpopups.com/wp-content/uploads/2025/05/Screenshot-2025-05-22-at-10.22.44 AM.png
END:VEVENT
BEGIN:VEVENT
DTSTART;TZID=America/Chicago:20270619T080000
DTEND;TZID=America/Chicago:20270619T120000
DTSTAMP:20260420T155818
CREATED:20250522T152326Z
LAST-MODIFIED:20250522T152326Z
UID:10000152-1813392000-1813406400@parishpopups.com
SUMMARY:Lafayette Farmers & Artisan Market
DESCRIPTION:The Lafayette Farmers and Artisans Market provides access to affordable food and consumer education by serving as a premier venue for seasonal\, farm-based products and artisanal creations offered by local producers. \n  \nSupport local farmers and makers every Saturday at Moncus Park \nVendor Applications are Currently Closed
URL:https://parishpopups.com/event/lafayette-farmers-artisan-market/2027-06-19/
LOCATION:Moncus Park\, 2913 Johnston St.\, Lafayette\, LA\, 70510\, United States
ATTACH;FMTTYPE=image/png:https://parishpopups.com/wp-content/uploads/2025/05/Screenshot-2025-05-22-at-10.22.44 AM.png
END:VEVENT
BEGIN:VEVENT
DTSTART;TZID=America/Chicago:20270626T080000
DTEND;TZID=America/Chicago:20270626T120000
DTSTAMP:20260420T155818
CREATED:20250522T152326Z
LAST-MODIFIED:20250522T152326Z
UID:10000153-1813996800-1814011200@parishpopups.com
SUMMARY:Lafayette Farmers & Artisan Market
DESCRIPTION:The Lafayette Farmers and Artisans Market provides access to affordable food and consumer education by serving as a premier venue for seasonal\, farm-based products and artisanal creations offered by local producers. \n  \nSupport local farmers and makers every Saturday at Moncus Park \nVendor Applications are Currently Closed
URL:https://parishpopups.com/event/lafayette-farmers-artisan-market/2027-06-26/
LOCATION:Moncus Park\, 2913 Johnston St.\, Lafayette\, LA\, 70510\, United States
ATTACH;FMTTYPE=image/png:https://parishpopups.com/wp-content/uploads/2025/05/Screenshot-2025-05-22-at-10.22.44 AM.png
END:VEVENT
BEGIN:VEVENT
DTSTART;TZID=America/Chicago:20270703T080000
DTEND;TZID=America/Chicago:20270703T120000
DTSTAMP:20260420T155818
CREATED:20250522T152326Z
LAST-MODIFIED:20250522T152326Z
UID:10000154-1814601600-1814616000@parishpopups.com
SUMMARY:Lafayette Farmers & Artisan Market
DESCRIPTION:The Lafayette Farmers and Artisans Market provides access to affordable food and consumer education by serving as a premier venue for seasonal\, farm-based products and artisanal creations offered by local producers. \n  \nSupport local farmers and makers every Saturday at Moncus Park \nVendor Applications are Currently Closed
URL:https://parishpopups.com/event/lafayette-farmers-artisan-market/2027-07-03/
LOCATION:Moncus Park\, 2913 Johnston St.\, Lafayette\, LA\, 70510\, United States
ATTACH;FMTTYPE=image/png:https://parishpopups.com/wp-content/uploads/2025/05/Screenshot-2025-05-22-at-10.22.44 AM.png
END:VEVENT
BEGIN:VEVENT
DTSTART;TZID=America/Chicago:20270703T090000
DTEND;TZID=America/Chicago:20270703T130000
DTSTAMP:20260420T155818
CREATED:20250522T152923Z
LAST-MODIFIED:20250703T201859Z
UID:10000521-1814605200-1814619600@parishpopups.com
SUMMARY:Delcambre Seafood & Farmers Market
DESCRIPTION:Located on the water\, the Delcambre Seafood and Farmers Market offers \n\nfresh shrimp off the boats in season\n60+ vendors under a large covered pavilion\nlive music\nkids activities\nbrunch food and drinks\n\nThere are vendors of all kinds selling fresh produce\, homemade canned goods\, arts and crafts. \nVisit their website for vendor information – https://delcambremarket.org/
URL:https://parishpopups.com/event/delcambre-seafood-farmers-market/2027-07-03/
LOCATION:Delcambre Seafood Market\, 605 S Railroad Street (Hwy 330)\, Delcambre\, LA\, 70528\, United States
ATTACH;FMTTYPE=image/png:https://parishpopups.com/wp-content/uploads/2025/05/Screenshot-2025-05-22-at-10.28.13 AM.png
END:VEVENT
BEGIN:VEVENT
DTSTART;TZID=America/Chicago:20270710T080000
DTEND;TZID=America/Chicago:20270710T120000
DTSTAMP:20260420T155818
CREATED:20250522T152326Z
LAST-MODIFIED:20250522T152326Z
UID:10000155-1815206400-1815220800@parishpopups.com
SUMMARY:Lafayette Farmers & Artisan Market
DESCRIPTION:The Lafayette Farmers and Artisans Market provides access to affordable food and consumer education by serving as a premier venue for seasonal\, farm-based products and artisanal creations offered by local producers. \n  \nSupport local farmers and makers every Saturday at Moncus Park \nVendor Applications are Currently Closed
URL:https://parishpopups.com/event/lafayette-farmers-artisan-market/2027-07-10/
LOCATION:Moncus Park\, 2913 Johnston St.\, Lafayette\, LA\, 70510\, United States
ATTACH;FMTTYPE=image/png:https://parishpopups.com/wp-content/uploads/2025/05/Screenshot-2025-05-22-at-10.22.44 AM.png
END:VEVENT
BEGIN:VEVENT
DTSTART;TZID=America/Chicago:20270717T080000
DTEND;TZID=America/Chicago:20270717T120000
DTSTAMP:20260420T155818
CREATED:20250522T152326Z
LAST-MODIFIED:20250522T152326Z
UID:10000156-1815811200-1815825600@parishpopups.com
SUMMARY:Lafayette Farmers & Artisan Market
DESCRIPTION:The Lafayette Farmers and Artisans Market provides access to affordable food and consumer education by serving as a premier venue for seasonal\, farm-based products and artisanal creations offered by local producers. \n  \nSupport local farmers and makers every Saturday at Moncus Park \nVendor Applications are Currently Closed
URL:https://parishpopups.com/event/lafayette-farmers-artisan-market/2027-07-17/
LOCATION:Moncus Park\, 2913 Johnston St.\, Lafayette\, LA\, 70510\, United States
ATTACH;FMTTYPE=image/png:https://parishpopups.com/wp-content/uploads/2025/05/Screenshot-2025-05-22-at-10.22.44 AM.png
END:VEVENT
BEGIN:VEVENT
DTSTART;TZID=America/Chicago:20270724T080000
DTEND;TZID=America/Chicago:20270724T120000
DTSTAMP:20260420T155818
CREATED:20250522T152326Z
LAST-MODIFIED:20250522T152326Z
UID:10000157-1816416000-1816430400@parishpopups.com
SUMMARY:Lafayette Farmers & Artisan Market
DESCRIPTION:The Lafayette Farmers and Artisans Market provides access to affordable food and consumer education by serving as a premier venue for seasonal\, farm-based products and artisanal creations offered by local producers. \n  \nSupport local farmers and makers every Saturday at Moncus Park \nVendor Applications are Currently Closed
URL:https://parishpopups.com/event/lafayette-farmers-artisan-market/2027-07-24/
LOCATION:Moncus Park\, 2913 Johnston St.\, Lafayette\, LA\, 70510\, United States
ATTACH;FMTTYPE=image/png:https://parishpopups.com/wp-content/uploads/2025/05/Screenshot-2025-05-22-at-10.22.44 AM.png
END:VEVENT
BEGIN:VEVENT
DTSTART;TZID=America/Chicago:20270731T080000
DTEND;TZID=America/Chicago:20270731T120000
DTSTAMP:20260420T155818
CREATED:20250522T152326Z
LAST-MODIFIED:20250522T152326Z
UID:10000158-1817020800-1817035200@parishpopups.com
SUMMARY:Lafayette Farmers & Artisan Market
DESCRIPTION:The Lafayette Farmers and Artisans Market provides access to affordable food and consumer education by serving as a premier venue for seasonal\, farm-based products and artisanal creations offered by local producers. \n  \nSupport local farmers and makers every Saturday at Moncus Park \nVendor Applications are Currently Closed
URL:https://parishpopups.com/event/lafayette-farmers-artisan-market/2027-07-31/
LOCATION:Moncus Park\, 2913 Johnston St.\, Lafayette\, LA\, 70510\, United States
ATTACH;FMTTYPE=image/png:https://parishpopups.com/wp-content/uploads/2025/05/Screenshot-2025-05-22-at-10.22.44 AM.png
END:VEVENT
BEGIN:VEVENT
DTSTART;TZID=America/Chicago:20270807T080000
DTEND;TZID=America/Chicago:20270807T120000
DTSTAMP:20260420T155818
CREATED:20250522T152326Z
LAST-MODIFIED:20250522T152326Z
UID:10000159-1817625600-1817640000@parishpopups.com
SUMMARY:Lafayette Farmers & Artisan Market
DESCRIPTION:The Lafayette Farmers and Artisans Market provides access to affordable food and consumer education by serving as a premier venue for seasonal\, farm-based products and artisanal creations offered by local producers. \n  \nSupport local farmers and makers every Saturday at Moncus Park \nVendor Applications are Currently Closed
URL:https://parishpopups.com/event/lafayette-farmers-artisan-market/2027-08-07/
LOCATION:Moncus Park\, 2913 Johnston St.\, Lafayette\, LA\, 70510\, United States
ATTACH;FMTTYPE=image/png:https://parishpopups.com/wp-content/uploads/2025/05/Screenshot-2025-05-22-at-10.22.44 AM.png
END:VEVENT
BEGIN:VEVENT
DTSTART;TZID=America/Chicago:20270807T090000
DTEND;TZID=America/Chicago:20270807T130000
DTSTAMP:20260420T155818
CREATED:20250522T152923Z
LAST-MODIFIED:20250703T201859Z
UID:10000522-1817629200-1817643600@parishpopups.com
SUMMARY:Delcambre Seafood & Farmers Market
DESCRIPTION:Located on the water\, the Delcambre Seafood and Farmers Market offers \n\nfresh shrimp off the boats in season\n60+ vendors under a large covered pavilion\nlive music\nkids activities\nbrunch food and drinks\n\nThere are vendors of all kinds selling fresh produce\, homemade canned goods\, arts and crafts. \nVisit their website for vendor information – https://delcambremarket.org/
URL:https://parishpopups.com/event/delcambre-seafood-farmers-market/2027-08-07/
LOCATION:Delcambre Seafood Market\, 605 S Railroad Street (Hwy 330)\, Delcambre\, LA\, 70528\, United States
ATTACH;FMTTYPE=image/png:https://parishpopups.com/wp-content/uploads/2025/05/Screenshot-2025-05-22-at-10.28.13 AM.png
END:VEVENT
BEGIN:VEVENT
DTSTART;TZID=America/Chicago:20270814T080000
DTEND;TZID=America/Chicago:20270814T120000
DTSTAMP:20260420T155818
CREATED:20250522T152326Z
LAST-MODIFIED:20250522T152326Z
UID:10000160-1818230400-1818244800@parishpopups.com
SUMMARY:Lafayette Farmers & Artisan Market
DESCRIPTION:The Lafayette Farmers and Artisans Market provides access to affordable food and consumer education by serving as a premier venue for seasonal\, farm-based products and artisanal creations offered by local producers. \n  \nSupport local farmers and makers every Saturday at Moncus Park \nVendor Applications are Currently Closed
URL:https://parishpopups.com/event/lafayette-farmers-artisan-market/2027-08-14/
LOCATION:Moncus Park\, 2913 Johnston St.\, Lafayette\, LA\, 70510\, United States
ATTACH;FMTTYPE=image/png:https://parishpopups.com/wp-content/uploads/2025/05/Screenshot-2025-05-22-at-10.22.44 AM.png
END:VEVENT
BEGIN:VEVENT
DTSTART;TZID=America/Chicago:20270821T080000
DTEND;TZID=America/Chicago:20270821T120000
DTSTAMP:20260420T155818
CREATED:20250522T152326Z
LAST-MODIFIED:20250522T152326Z
UID:10000161-1818835200-1818849600@parishpopups.com
SUMMARY:Lafayette Farmers & Artisan Market
DESCRIPTION:The Lafayette Farmers and Artisans Market provides access to affordable food and consumer education by serving as a premier venue for seasonal\, farm-based products and artisanal creations offered by local producers. \n  \nSupport local farmers and makers every Saturday at Moncus Park \nVendor Applications are Currently Closed
URL:https://parishpopups.com/event/lafayette-farmers-artisan-market/2027-08-21/
LOCATION:Moncus Park\, 2913 Johnston St.\, Lafayette\, LA\, 70510\, United States
ATTACH;FMTTYPE=image/png:https://parishpopups.com/wp-content/uploads/2025/05/Screenshot-2025-05-22-at-10.22.44 AM.png
END:VEVENT
BEGIN:VEVENT
DTSTART;TZID=America/Chicago:20270828T080000
DTEND;TZID=America/Chicago:20270828T120000
DTSTAMP:20260420T155818
CREATED:20250522T152326Z
LAST-MODIFIED:20250522T152326Z
UID:10000162-1819440000-1819454400@parishpopups.com
SUMMARY:Lafayette Farmers & Artisan Market
DESCRIPTION:The Lafayette Farmers and Artisans Market provides access to affordable food and consumer education by serving as a premier venue for seasonal\, farm-based products and artisanal creations offered by local producers. \n  \nSupport local farmers and makers every Saturday at Moncus Park \nVendor Applications are Currently Closed
URL:https://parishpopups.com/event/lafayette-farmers-artisan-market/2027-08-28/
LOCATION:Moncus Park\, 2913 Johnston St.\, Lafayette\, LA\, 70510\, United States
ATTACH;FMTTYPE=image/png:https://parishpopups.com/wp-content/uploads/2025/05/Screenshot-2025-05-22-at-10.22.44 AM.png
END:VEVENT
BEGIN:VEVENT
DTSTART;TZID=America/Chicago:20270904T080000
DTEND;TZID=America/Chicago:20270904T120000
DTSTAMP:20260420T155818
CREATED:20250522T152326Z
LAST-MODIFIED:20250522T152326Z
UID:10000163-1820044800-1820059200@parishpopups.com
SUMMARY:Lafayette Farmers & Artisan Market
DESCRIPTION:The Lafayette Farmers and Artisans Market provides access to affordable food and consumer education by serving as a premier venue for seasonal\, farm-based products and artisanal creations offered by local producers. \n  \nSupport local farmers and makers every Saturday at Moncus Park \nVendor Applications are Currently Closed
URL:https://parishpopups.com/event/lafayette-farmers-artisan-market/2027-09-04/
LOCATION:Moncus Park\, 2913 Johnston St.\, Lafayette\, LA\, 70510\, United States
ATTACH;FMTTYPE=image/png:https://parishpopups.com/wp-content/uploads/2025/05/Screenshot-2025-05-22-at-10.22.44 AM.png
END:VEVENT
BEGIN:VEVENT
DTSTART;TZID=America/Chicago:20270904T090000
DTEND;TZID=America/Chicago:20270904T130000
DTSTAMP:20260420T155818
CREATED:20250522T152923Z
LAST-MODIFIED:20250703T201859Z
UID:10000523-1820048400-1820062800@parishpopups.com
SUMMARY:Delcambre Seafood & Farmers Market
DESCRIPTION:Located on the water\, the Delcambre Seafood and Farmers Market offers \n\nfresh shrimp off the boats in season\n60+ vendors under a large covered pavilion\nlive music\nkids activities\nbrunch food and drinks\n\nThere are vendors of all kinds selling fresh produce\, homemade canned goods\, arts and crafts. \nVisit their website for vendor information – https://delcambremarket.org/
URL:https://parishpopups.com/event/delcambre-seafood-farmers-market/2027-09-04/
LOCATION:Delcambre Seafood Market\, 605 S Railroad Street (Hwy 330)\, Delcambre\, LA\, 70528\, United States
ATTACH;FMTTYPE=image/png:https://parishpopups.com/wp-content/uploads/2025/05/Screenshot-2025-05-22-at-10.28.13 AM.png
END:VEVENT
BEGIN:VEVENT
DTSTART;TZID=America/Chicago:20270911T080000
DTEND;TZID=America/Chicago:20270911T120000
DTSTAMP:20260420T155818
CREATED:20250522T152326Z
LAST-MODIFIED:20250522T152326Z
UID:10000164-1820649600-1820664000@parishpopups.com
SUMMARY:Lafayette Farmers & Artisan Market
DESCRIPTION:The Lafayette Farmers and Artisans Market provides access to affordable food and consumer education by serving as a premier venue for seasonal\, farm-based products and artisanal creations offered by local producers. \n  \nSupport local farmers and makers every Saturday at Moncus Park \nVendor Applications are Currently Closed
URL:https://parishpopups.com/event/lafayette-farmers-artisan-market/2027-09-11/
LOCATION:Moncus Park\, 2913 Johnston St.\, Lafayette\, LA\, 70510\, United States
ATTACH;FMTTYPE=image/png:https://parishpopups.com/wp-content/uploads/2025/05/Screenshot-2025-05-22-at-10.22.44 AM.png
END:VEVENT
BEGIN:VEVENT
DTSTART;TZID=America/Chicago:20270918T080000
DTEND;TZID=America/Chicago:20270918T120000
DTSTAMP:20260420T155818
CREATED:20250522T152326Z
LAST-MODIFIED:20250522T152326Z
UID:10000165-1821254400-1821268800@parishpopups.com
SUMMARY:Lafayette Farmers & Artisan Market
DESCRIPTION:The Lafayette Farmers and Artisans Market provides access to affordable food and consumer education by serving as a premier venue for seasonal\, farm-based products and artisanal creations offered by local producers. \n  \nSupport local farmers and makers every Saturday at Moncus Park \nVendor Applications are Currently Closed
URL:https://parishpopups.com/event/lafayette-farmers-artisan-market/2027-09-18/
LOCATION:Moncus Park\, 2913 Johnston St.\, Lafayette\, LA\, 70510\, United States
ATTACH;FMTTYPE=image/png:https://parishpopups.com/wp-content/uploads/2025/05/Screenshot-2025-05-22-at-10.22.44 AM.png
END:VEVENT
BEGIN:VEVENT
DTSTART;TZID=America/Chicago:20270925T080000
DTEND;TZID=America/Chicago:20270925T120000
DTSTAMP:20260420T155818
CREATED:20250522T152326Z
LAST-MODIFIED:20250522T152326Z
UID:10000166-1821859200-1821873600@parishpopups.com
SUMMARY:Lafayette Farmers & Artisan Market
DESCRIPTION:The Lafayette Farmers and Artisans Market provides access to affordable food and consumer education by serving as a premier venue for seasonal\, farm-based products and artisanal creations offered by local producers. \n  \nSupport local farmers and makers every Saturday at Moncus Park \nVendor Applications are Currently Closed
URL:https://parishpopups.com/event/lafayette-farmers-artisan-market/2027-09-25/
LOCATION:Moncus Park\, 2913 Johnston St.\, Lafayette\, LA\, 70510\, United States
ATTACH;FMTTYPE=image/png:https://parishpopups.com/wp-content/uploads/2025/05/Screenshot-2025-05-22-at-10.22.44 AM.png
END:VEVENT
BEGIN:VEVENT
DTSTART;TZID=America/Chicago:20271002T080000
DTEND;TZID=America/Chicago:20271002T120000
DTSTAMP:20260420T155818
CREATED:20250522T152326Z
LAST-MODIFIED:20250522T152326Z
UID:10000167-1822464000-1822478400@parishpopups.com
SUMMARY:Lafayette Farmers & Artisan Market
DESCRIPTION:The Lafayette Farmers and Artisans Market provides access to affordable food and consumer education by serving as a premier venue for seasonal\, farm-based products and artisanal creations offered by local producers. \n  \nSupport local farmers and makers every Saturday at Moncus Park \nVendor Applications are Currently Closed
URL:https://parishpopups.com/event/lafayette-farmers-artisan-market/2027-10-02/
LOCATION:Moncus Park\, 2913 Johnston St.\, Lafayette\, LA\, 70510\, United States
ATTACH;FMTTYPE=image/png:https://parishpopups.com/wp-content/uploads/2025/05/Screenshot-2025-05-22-at-10.22.44 AM.png
END:VEVENT
BEGIN:VEVENT
DTSTART;TZID=America/Chicago:20271002T090000
DTEND;TZID=America/Chicago:20271002T130000
DTSTAMP:20260420T155818
CREATED:20250522T152923Z
LAST-MODIFIED:20250703T201859Z
UID:10000524-1822467600-1822482000@parishpopups.com
SUMMARY:Delcambre Seafood & Farmers Market
DESCRIPTION:Located on the water\, the Delcambre Seafood and Farmers Market offers \n\nfresh shrimp off the boats in season\n60+ vendors under a large covered pavilion\nlive music\nkids activities\nbrunch food and drinks\n\nThere are vendors of all kinds selling fresh produce\, homemade canned goods\, arts and crafts. \nVisit their website for vendor information – https://delcambremarket.org/
URL:https://parishpopups.com/event/delcambre-seafood-farmers-market/2027-10-02/
LOCATION:Delcambre Seafood Market\, 605 S Railroad Street (Hwy 330)\, Delcambre\, LA\, 70528\, United States
ATTACH;FMTTYPE=image/png:https://parishpopups.com/wp-content/uploads/2025/05/Screenshot-2025-05-22-at-10.28.13 AM.png
END:VEVENT
BEGIN:VEVENT
DTSTART;TZID=America/Chicago:20271009T080000
DTEND;TZID=America/Chicago:20271009T120000
DTSTAMP:20260420T155818
CREATED:20250522T152326Z
LAST-MODIFIED:20250522T152326Z
UID:10000168-1823068800-1823083200@parishpopups.com
SUMMARY:Lafayette Farmers & Artisan Market
DESCRIPTION:The Lafayette Farmers and Artisans Market provides access to affordable food and consumer education by serving as a premier venue for seasonal\, farm-based products and artisanal creations offered by local producers. \n  \nSupport local farmers and makers every Saturday at Moncus Park \nVendor Applications are Currently Closed
URL:https://parishpopups.com/event/lafayette-farmers-artisan-market/2027-10-09/
LOCATION:Moncus Park\, 2913 Johnston St.\, Lafayette\, LA\, 70510\, United States
ATTACH;FMTTYPE=image/png:https://parishpopups.com/wp-content/uploads/2025/05/Screenshot-2025-05-22-at-10.22.44 AM.png
END:VEVENT
BEGIN:VEVENT
DTSTART;TZID=America/Chicago:20271016T080000
DTEND;TZID=America/Chicago:20271016T120000
DTSTAMP:20260420T155818
CREATED:20250522T152326Z
LAST-MODIFIED:20250522T152326Z
UID:10000169-1823673600-1823688000@parishpopups.com
SUMMARY:Lafayette Farmers & Artisan Market
DESCRIPTION:The Lafayette Farmers and Artisans Market provides access to affordable food and consumer education by serving as a premier venue for seasonal\, farm-based products and artisanal creations offered by local producers. \n  \nSupport local farmers and makers every Saturday at Moncus Park \nVendor Applications are Currently Closed
URL:https://parishpopups.com/event/lafayette-farmers-artisan-market/2027-10-16/
LOCATION:Moncus Park\, 2913 Johnston St.\, Lafayette\, LA\, 70510\, United States
ATTACH;FMTTYPE=image/png:https://parishpopups.com/wp-content/uploads/2025/05/Screenshot-2025-05-22-at-10.22.44 AM.png
END:VEVENT
BEGIN:VEVENT
DTSTART;TZID=America/Chicago:20271023T080000
DTEND;TZID=America/Chicago:20271023T120000
DTSTAMP:20260420T155818
CREATED:20250522T152326Z
LAST-MODIFIED:20250522T152326Z
UID:10000170-1824278400-1824292800@parishpopups.com
SUMMARY:Lafayette Farmers & Artisan Market
DESCRIPTION:The Lafayette Farmers and Artisans Market provides access to affordable food and consumer education by serving as a premier venue for seasonal\, farm-based products and artisanal creations offered by local producers. \n  \nSupport local farmers and makers every Saturday at Moncus Park \nVendor Applications are Currently Closed
URL:https://parishpopups.com/event/lafayette-farmers-artisan-market/2027-10-23/
LOCATION:Moncus Park\, 2913 Johnston St.\, Lafayette\, LA\, 70510\, United States
ATTACH;FMTTYPE=image/png:https://parishpopups.com/wp-content/uploads/2025/05/Screenshot-2025-05-22-at-10.22.44 AM.png
END:VEVENT
BEGIN:VEVENT
DTSTART;TZID=America/Chicago:20271030T080000
DTEND;TZID=America/Chicago:20271030T120000
DTSTAMP:20260420T155818
CREATED:20250522T152326Z
LAST-MODIFIED:20250522T152326Z
UID:10000171-1824883200-1824897600@parishpopups.com
SUMMARY:Lafayette Farmers & Artisan Market
DESCRIPTION:The Lafayette Farmers and Artisans Market provides access to affordable food and consumer education by serving as a premier venue for seasonal\, farm-based products and artisanal creations offered by local producers. \n  \nSupport local farmers and makers every Saturday at Moncus Park \nVendor Applications are Currently Closed
URL:https://parishpopups.com/event/lafayette-farmers-artisan-market/2027-10-30/
LOCATION:Moncus Park\, 2913 Johnston St.\, Lafayette\, LA\, 70510\, United States
ATTACH;FMTTYPE=image/png:https://parishpopups.com/wp-content/uploads/2025/05/Screenshot-2025-05-22-at-10.22.44 AM.png
END:VEVENT
BEGIN:VEVENT
DTSTART;TZID=America/Chicago:20271106T080000
DTEND;TZID=America/Chicago:20271106T120000
DTSTAMP:20260420T155818
CREATED:20250522T152326Z
LAST-MODIFIED:20250522T152326Z
UID:10000172-1825488000-1825502400@parishpopups.com
SUMMARY:Lafayette Farmers & Artisan Market
DESCRIPTION:The Lafayette Farmers and Artisans Market provides access to affordable food and consumer education by serving as a premier venue for seasonal\, farm-based products and artisanal creations offered by local producers. \n  \nSupport local farmers and makers every Saturday at Moncus Park \nVendor Applications are Currently Closed
URL:https://parishpopups.com/event/lafayette-farmers-artisan-market/2027-11-06/
LOCATION:Moncus Park\, 2913 Johnston St.\, Lafayette\, LA\, 70510\, United States
ATTACH;FMTTYPE=image/png:https://parishpopups.com/wp-content/uploads/2025/05/Screenshot-2025-05-22-at-10.22.44 AM.png
END:VEVENT
BEGIN:VEVENT
DTSTART;TZID=America/Chicago:20271106T090000
DTEND;TZID=America/Chicago:20271106T130000
DTSTAMP:20260420T155818
CREATED:20250522T152923Z
LAST-MODIFIED:20250703T201859Z
UID:10000525-1825491600-1825506000@parishpopups.com
SUMMARY:Delcambre Seafood & Farmers Market
DESCRIPTION:Located on the water\, the Delcambre Seafood and Farmers Market offers \n\nfresh shrimp off the boats in season\n60+ vendors under a large covered pavilion\nlive music\nkids activities\nbrunch food and drinks\n\nThere are vendors of all kinds selling fresh produce\, homemade canned goods\, arts and crafts. \nVisit their website for vendor information – https://delcambremarket.org/
URL:https://parishpopups.com/event/delcambre-seafood-farmers-market/2027-11-06/
LOCATION:Delcambre Seafood Market\, 605 S Railroad Street (Hwy 330)\, Delcambre\, LA\, 70528\, United States
ATTACH;FMTTYPE=image/png:https://parishpopups.com/wp-content/uploads/2025/05/Screenshot-2025-05-22-at-10.28.13 AM.png
END:VEVENT
BEGIN:VEVENT
DTSTART;TZID=America/Chicago:20271113T080000
DTEND;TZID=America/Chicago:20271113T120000
DTSTAMP:20260420T155818
CREATED:20250522T152326Z
LAST-MODIFIED:20250522T152326Z
UID:10000173-1826092800-1826107200@parishpopups.com
SUMMARY:Lafayette Farmers & Artisan Market
DESCRIPTION:The Lafayette Farmers and Artisans Market provides access to affordable food and consumer education by serving as a premier venue for seasonal\, farm-based products and artisanal creations offered by local producers. \n  \nSupport local farmers and makers every Saturday at Moncus Park \nVendor Applications are Currently Closed
URL:https://parishpopups.com/event/lafayette-farmers-artisan-market/2027-11-13/
LOCATION:Moncus Park\, 2913 Johnston St.\, Lafayette\, LA\, 70510\, United States
ATTACH;FMTTYPE=image/png:https://parishpopups.com/wp-content/uploads/2025/05/Screenshot-2025-05-22-at-10.22.44 AM.png
END:VEVENT
BEGIN:VEVENT
DTSTART;TZID=America/Chicago:20271120T080000
DTEND;TZID=America/Chicago:20271120T120000
DTSTAMP:20260420T155818
CREATED:20250522T152326Z
LAST-MODIFIED:20250522T152326Z
UID:10000174-1826697600-1826712000@parishpopups.com
SUMMARY:Lafayette Farmers & Artisan Market
DESCRIPTION:The Lafayette Farmers and Artisans Market provides access to affordable food and consumer education by serving as a premier venue for seasonal\, farm-based products and artisanal creations offered by local producers. \n  \nSupport local farmers and makers every Saturday at Moncus Park \nVendor Applications are Currently Closed
URL:https://parishpopups.com/event/lafayette-farmers-artisan-market/2027-11-20/
LOCATION:Moncus Park\, 2913 Johnston St.\, Lafayette\, LA\, 70510\, United States
ATTACH;FMTTYPE=image/png:https://parishpopups.com/wp-content/uploads/2025/05/Screenshot-2025-05-22-at-10.22.44 AM.png
END:VEVENT
END:VCALENDAR