BEGIN:VCALENDAR
VERSION:2.0
PRODID:-//Parish Pop-Ups - ECPv6.13.2.1//NONSGML v1.0//EN
CALSCALE:GREGORIAN
METHOD:PUBLISH
X-ORIGINAL-URL:https://parishpopups.com
X-WR-CALDESC:Events for Parish Pop-Ups
REFRESH-INTERVAL;VALUE=DURATION:PT1H
X-Robots-Tag:noindex
X-PUBLISHED-TTL:PT1H
BEGIN:VTIMEZONE
TZID:America/Chicago
BEGIN:DAYLIGHT
TZOFFSETFROM:-0600
TZOFFSETTO:-0500
TZNAME:CDT
DTSTART:20260308T080000
END:DAYLIGHT
BEGIN:STANDARD
TZOFFSETFROM:-0500
TZOFFSETTO:-0600
TZNAME:CST
DTSTART:20261101T070000
END:STANDARD
END:VTIMEZONE
BEGIN:VEVENT
DTSTART;TZID=America/Chicago:20260606T080000
DTEND;TZID=America/Chicago:20260606T120000
DTSTAMP:20260420T091934
CREATED:20250522T152326Z
LAST-MODIFIED:20250522T152326Z
UID:10000098-1780732800-1780747200@parishpopups.com
SUMMARY:Lafayette Farmers & Artisan Market
DESCRIPTION:The Lafayette Farmers and Artisans Market provides access to affordable food and consumer education by serving as a premier venue for seasonal\, farm-based products and artisanal creations offered by local producers. \n  \nSupport local farmers and makers every Saturday at Moncus Park \nVendor Applications are Currently Closed
URL:https://parishpopups.com/event/lafayette-farmers-artisan-market/2026-06-06/
LOCATION:Moncus Park\, 2913 Johnston St.\, Lafayette\, LA\, 70510\, United States
ATTACH;FMTTYPE=image/png:https://parishpopups.com/wp-content/uploads/2025/05/Screenshot-2025-05-22-at-10.22.44 AM.png
END:VEVENT
BEGIN:VEVENT
DTSTART;TZID=America/Chicago:20260606T090000
DTEND;TZID=America/Chicago:20260606T130000
DTSTAMP:20260420T091934
CREATED:20250522T152923Z
LAST-MODIFIED:20250703T201859Z
UID:10000508-1780736400-1780750800@parishpopups.com
SUMMARY:Delcambre Seafood & Farmers Market
DESCRIPTION:Located on the water\, the Delcambre Seafood and Farmers Market offers \n\nfresh shrimp off the boats in season\n60+ vendors under a large covered pavilion\nlive music\nkids activities\nbrunch food and drinks\n\nThere are vendors of all kinds selling fresh produce\, homemade canned goods\, arts and crafts. \nVisit their website for vendor information – https://delcambremarket.org/
URL:https://parishpopups.com/event/delcambre-seafood-farmers-market/2026-06-06/
LOCATION:Delcambre Seafood Market\, 605 S Railroad Street (Hwy 330)\, Delcambre\, LA\, 70528\, United States
ATTACH;FMTTYPE=image/png:https://parishpopups.com/wp-content/uploads/2025/05/Screenshot-2025-05-22-at-10.28.13 AM.png
END:VEVENT
BEGIN:VEVENT
DTSTART;TZID=America/Chicago:20260613T080000
DTEND;TZID=America/Chicago:20260613T120000
DTSTAMP:20260420T091934
CREATED:20250522T152326Z
LAST-MODIFIED:20250522T152326Z
UID:10000099-1781337600-1781352000@parishpopups.com
SUMMARY:Lafayette Farmers & Artisan Market
DESCRIPTION:The Lafayette Farmers and Artisans Market provides access to affordable food and consumer education by serving as a premier venue for seasonal\, farm-based products and artisanal creations offered by local producers. \n  \nSupport local farmers and makers every Saturday at Moncus Park \nVendor Applications are Currently Closed
URL:https://parishpopups.com/event/lafayette-farmers-artisan-market/2026-06-13/
LOCATION:Moncus Park\, 2913 Johnston St.\, Lafayette\, LA\, 70510\, United States
ATTACH;FMTTYPE=image/png:https://parishpopups.com/wp-content/uploads/2025/05/Screenshot-2025-05-22-at-10.22.44 AM.png
END:VEVENT
BEGIN:VEVENT
DTSTART;TZID=America/Chicago:20260620T080000
DTEND;TZID=America/Chicago:20260620T120000
DTSTAMP:20260420T091934
CREATED:20250522T152326Z
LAST-MODIFIED:20250522T152326Z
UID:10000100-1781942400-1781956800@parishpopups.com
SUMMARY:Lafayette Farmers & Artisan Market
DESCRIPTION:The Lafayette Farmers and Artisans Market provides access to affordable food and consumer education by serving as a premier venue for seasonal\, farm-based products and artisanal creations offered by local producers. \n  \nSupport local farmers and makers every Saturday at Moncus Park \nVendor Applications are Currently Closed
URL:https://parishpopups.com/event/lafayette-farmers-artisan-market/2026-06-20/
LOCATION:Moncus Park\, 2913 Johnston St.\, Lafayette\, LA\, 70510\, United States
ATTACH;FMTTYPE=image/png:https://parishpopups.com/wp-content/uploads/2025/05/Screenshot-2025-05-22-at-10.22.44 AM.png
END:VEVENT
BEGIN:VEVENT
DTSTART;TZID=America/Chicago:20260627T080000
DTEND;TZID=America/Chicago:20260627T120000
DTSTAMP:20260420T091934
CREATED:20250522T152326Z
LAST-MODIFIED:20250522T152326Z
UID:10000101-1782547200-1782561600@parishpopups.com
SUMMARY:Lafayette Farmers & Artisan Market
DESCRIPTION:The Lafayette Farmers and Artisans Market provides access to affordable food and consumer education by serving as a premier venue for seasonal\, farm-based products and artisanal creations offered by local producers. \n  \nSupport local farmers and makers every Saturday at Moncus Park \nVendor Applications are Currently Closed
URL:https://parishpopups.com/event/lafayette-farmers-artisan-market/2026-06-27/
LOCATION:Moncus Park\, 2913 Johnston St.\, Lafayette\, LA\, 70510\, United States
ATTACH;FMTTYPE=image/png:https://parishpopups.com/wp-content/uploads/2025/05/Screenshot-2025-05-22-at-10.22.44 AM.png
END:VEVENT
END:VCALENDAR